BEGIN:VCALENDAR
VERSION:2.0
PRODID:-//Ashland Together - ECPv6.15.20//NONSGML v1.0//EN
CALSCALE:GREGORIAN
METHOD:PUBLISH
X-ORIGINAL-URL:https://ashlandtogether.org
X-WR-CALDESC:Events for Ashland Together
REFRESH-INTERVAL;VALUE=DURATION:PT1H
X-Robots-Tag:noindex
X-PUBLISHED-TTL:PT1H
BEGIN:VTIMEZONE
TZID:America/Los_Angeles
BEGIN:DAYLIGHT
TZOFFSETFROM:-0800
TZOFFSETTO:-0700
TZNAME:PDT
DTSTART:20240310T100000
END:DAYLIGHT
BEGIN:STANDARD
TZOFFSETFROM:-0700
TZOFFSETTO:-0800
TZNAME:PST
DTSTART:20241103T090000
END:STANDARD
BEGIN:DAYLIGHT
TZOFFSETFROM:-0800
TZOFFSETTO:-0700
TZNAME:PDT
DTSTART:20250309T100000
END:DAYLIGHT
BEGIN:STANDARD
TZOFFSETFROM:-0700
TZOFFSETTO:-0800
TZNAME:PST
DTSTART:20251102T090000
END:STANDARD
BEGIN:DAYLIGHT
TZOFFSETFROM:-0800
TZOFFSETTO:-0700
TZNAME:PDT
DTSTART:20260308T100000
END:DAYLIGHT
BEGIN:STANDARD
TZOFFSETFROM:-0700
TZOFFSETTO:-0800
TZNAME:PST
DTSTART:20261101T090000
END:STANDARD
END:VTIMEZONE
BEGIN:VEVENT
DTSTART;TZID=America/Los_Angeles:20251116T140000
DTEND;TZID=America/Los_Angeles:20251116T153000
DTSTAMP:20260423T161037
CREATED:20251104T045048Z
LAST-MODIFIED:20251106T064452Z
UID:5145-1763301600-1763307000@ashlandtogether.org
SUMMARY:Belonging and Civic Muscle | Community Conversation with All.Together.Now
DESCRIPTION:Sunday\, November 16th 2:00-3:30 PM \n\n\nOregon Shakespeare Festival’s Carpenter Hall\, 44 S Pioneer Street\, Ashland \n\n\n\n\nFollowing a packed house for An Evening with john a. powell on October 6th\, we’ll gather to focus on Belonging and Civic Muscle \n\n\n\n\nWhat we’ll explore: \n\n\nWhat does belonging mean in our community?\nWhat are your hopes and concerns?\nWhat would it take for people to truly and thrive here?\nWhat to expect: Facilitated small and large group conversations to discover what we truly want.\n\n\nFree Event | Registration Required \n\n\n\nREGISTER HERE for the first gathering.   \nWhy This Matters\nProfessor powell warned us about “conflict entrepreneurs” who profit from division. Our region faces real challenges: housing\, economic stress\, climate impacts\, institutional distrust. We can keep working in silos\, or we can choose radical collaboration. \nOver 500 of us showed up on October 6th. Many more heard about the event and want to be involved. Now we can build on that momentum. \nNext Steps\n1. Register for the November 16th gathering\n2. Forward this email to others who should join \nALL.TOGETHER.NOW.\nFrom Hyper-Individualism to Radical Collaboration \nOur Ashland region faces shared challenges–housing shortages\, budget constraints\, economic uncertainty\, climate threats\, educational pressures\, political divides\, etc. \nFor several months\, a group of community leaders has been meeting to explore how we can face these challenges head-on while building connection and resilience throughout Southern Oregon. \nThe October 6th event with Professor powell represented the first public step in this multi-year\, multi-generational\, multi-cultural\, collaboration to strengthen our community.  We’re starting with Ashland during our first year\, out ultimate hope is to branch out to our neighbors in Talent and Phoenix\, ensuring we can create concrete and lasting solutions together. \nALL.TOGETHER.NOW.’s growing list of community partners: \nAshland Climate Collaborative\, Ashland School District\,\nAshland Together\, Ashland.news\, Black Southern Oregon Alliance\,\nCity of Ashland\, Common Ground Conversations\, Ford Family Foundation\,\nGordon Elwood Foundation\, Oregon Community Foundation\,\nOregon Shakespeare Festival\, Rogue Community Health\,\nSouthern Oregon Success\, Southern Oregon University\,\nUnited Way of Jackson County \nThe institutional home for All.Together.Now. is Southern Oregon Success.
URL:https://ashlandtogether.org/event/community-conversation-with-all-together-now/
LOCATION:TBA
CATEGORIES:Featured
ATTACH;FMTTYPE=image/png:https://ashlandtogether.org/wp-content/uploads/2025/11/belonging-and-civic-muscle-v3b.png
END:VEVENT
BEGIN:VEVENT
DTSTART;TZID=America/Los_Angeles:20251121T200000
DTEND;TZID=America/Los_Angeles:20251122T010000
DTSTAMP:20260423T161037
CREATED:20251118T181620Z
LAST-MODIFIED:20251118T181846Z
UID:5206-1763755200-1763773200@ashlandtogether.org
SUMMARY:BAILANDO POR UNA CAUSA - DANCE NIGHT
DESCRIPTION:Join us at El Paraíso 142 N Front St for a night of solidarity to feed our farm worker and immigrant families this winter. \nSalsa class at 8:00. \nOpen dancing at 9:00! \nEl Paraiso Mexican Cuisine \n142 N Front Street\, Medford \nNovember 21 \n$10 Cover \nAcompañenos en El Paraíso (142 N Front St) para una noche de solidaridad para alimentar a las familias de trabajadores agrícolas e inmigrantes este invierno! \nClase de salsa a las 8:00. \n¡Baile social a las 9:00! \n$10 la entrada! \n\n+21 Event
URL:https://ashlandtogether.org/event/bailando-por-una-causa-dance-night/
LOCATION:El Paraiso Mexican Quisine\, 142 Front Street\, Medford\, OR\, 97501\, United States
ATTACH;FMTTYPE=image/png:https://ashlandtogether.org/wp-content/uploads/2025/11/1000021779.png
END:VEVENT
BEGIN:VEVENT
DTSTART;TZID=America/Los_Angeles:20251122T120000
DTEND;TZID=America/Los_Angeles:20251122T140000
DTSTAMP:20260423T161037
CREATED:20251118T012130Z
LAST-MODIFIED:20251118T012130Z
UID:5203-1763812800-1763820000@ashlandtogether.org
SUMMARY:Community Meal Every Saturday at the Ashland Library
DESCRIPTION:Free Home- cooked Meal At the Ashland Public Library \nEvery Saturday from 12-2 \n*Served in the Gresham Room \nHosted by Lisa Ebony and friends \nEATS & DRINKS \nMAIN DISH W/MEAT \nVEGETARIAN DISHES \nDESSERTS \nTEAS\, COFFEE\, & MORE!! \nIf you would like to volunteer or help cook reach out to organizelisaebony@gmail.com \nfor more info. \n*room may change. Just ask if you don’t see us.
URL:https://ashlandtogether.org/event/community-meal-every-saturday-at-the-ashland-library/
ATTACH;FMTTYPE=image/jpeg:https://ashlandtogether.org/wp-content/uploads/2025/11/Community-Meal-Ashland-Library.jpeg
END:VEVENT
BEGIN:VEVENT
DTSTART;TZID=America/Los_Angeles:20251123T140000
DTEND;TZID=America/Los_Angeles:20251123T150000
DTSTAMP:20260423T161037
CREATED:20251104T041621Z
LAST-MODIFIED:20251111T014144Z
UID:5126-1763906400-1763910000@ashlandtogether.org
SUMMARY:5th Anniversary of Aidan Ellison's Death
DESCRIPTION:Sunday November 23rd at 2:00pm -3:00pm we will celebrate the life of Aidan Ellison that was taken too soon.\nIn front of the mural at Ashland High School.Stand in solidarity and community
URL:https://ashlandtogether.org/event/5th-anniversary-of-aidan-ellisons-death/
LOCATION:Ashland High School\, 201 S Mountain Ave\, Ashland\, OR\, 97520
CATEGORIES:CALL TO ACTION,Featured
ATTACH;FMTTYPE=image/jpeg:https://ashlandtogether.org/wp-content/uploads/2025/11/IMG_4359-rotated.jpeg
END:VEVENT
END:VCALENDAR