BEGIN:VCALENDAR
VERSION:2.0
PRODID:-//Ashland Together - ECPv6.15.20//NONSGML v1.0//EN
CALSCALE:GREGORIAN
METHOD:PUBLISH
X-WR-CALNAME:Ashland Together
X-ORIGINAL-URL:https://ashlandtogether.org
X-WR-CALDESC:Events for Ashland Together
REFRESH-INTERVAL;VALUE=DURATION:PT1H
X-Robots-Tag:noindex
X-PUBLISHED-TTL:PT1H
BEGIN:VTIMEZONE
TZID:America/Los_Angeles
BEGIN:DAYLIGHT
TZOFFSETFROM:-0800
TZOFFSETTO:-0700
TZNAME:PDT
DTSTART:20240310T100000
END:DAYLIGHT
BEGIN:STANDARD
TZOFFSETFROM:-0700
TZOFFSETTO:-0800
TZNAME:PST
DTSTART:20241103T090000
END:STANDARD
BEGIN:DAYLIGHT
TZOFFSETFROM:-0800
TZOFFSETTO:-0700
TZNAME:PDT
DTSTART:20250309T100000
END:DAYLIGHT
BEGIN:STANDARD
TZOFFSETFROM:-0700
TZOFFSETTO:-0800
TZNAME:PST
DTSTART:20251102T090000
END:STANDARD
BEGIN:DAYLIGHT
TZOFFSETFROM:-0800
TZOFFSETTO:-0700
TZNAME:PDT
DTSTART:20260308T100000
END:DAYLIGHT
BEGIN:STANDARD
TZOFFSETFROM:-0700
TZOFFSETTO:-0800
TZNAME:PST
DTSTART:20261101T090000
END:STANDARD
END:VTIMEZONE
BEGIN:VEVENT
DTSTART;TZID=America/Los_Angeles:20250405T180000
DTEND;TZID=America/Los_Angeles:20250405T210000
DTSTAMP:20260424T022926
CREATED:20250312T215411Z
LAST-MODIFIED:20250313T183053Z
UID:4772-1743876000-1743886800@ashlandtogether.org
SUMMARY:A.R.T. Wave Fundraiser for Hakiym
DESCRIPTION:Please mark your calendars.\n\n\n\n\n\n\nIt takes a village! Please sign up to perform\, volunteer\, donate a silent auction or raffle item with this link: Interest Form ART Wave \n\n\nFundraiser to support Brian “Hakiym Sha’ir” Simpson\, a Black father\, firefighter\, community leader\, and poet who was wrongfully incarcerated for defending himself against a racially motivated physical attack while on the job in Josephine County\, Oregon. \nCase Details\nYou may or may not have heard about this case already. Some key details include the aggressor admitted in court to initiating the attack while using racial slurs\, the aggressor was found with drugs in his system (including fentanyl)\, and Hakiym defended himself using no weapons and fleeing the attack (reporting to his boss) as witnessed by other firefighters. In a wildly unjust trial with an all white jury and a judge with a history of overturned convictions\, Hakiym was sentenced to up to 6 years in prison at Snake River Correctional Institution (a rural prison that is notorious for violence\, frigid temperatures\, and inadequate nutrition). He has four young boys. He has spent his life as a community leader transforming lives and inspiring youth. He was recognized by the late great Rosa Parks for his tireless efforts in advocating for change. For more information and to sign the petition to Governor Tina Kotek\, please visit the J4H webpage on B.A.S.E.’s website \nBenefit Show & Party Details:A.R.T. Wave (Amazing Revolutionary Transformation) \nSaturday\, April 5th\, 2025 6pm-9pm at the Bellview Grange in Ashland (1050 Tolman Creek Rd) and live-streamed online. \nThis is an evening of community coming together\, sharing our talents and resources\, to raise funds and awareness for Hakiym and his campaign (that’s determined to see him fully exonerated and reunited with his family). Hakiym’s story will be shared by friends and family\, as well as his winning poetry. Local poets\, including the amazing Manya Yana Campos\, and local musicians (including Los Mapaches\, an outstanding cumbia band) will share their talents. Donations from supportive local businesses\, artists\, and community members (including Rise Up! Artisan Bread\, The English Lavender Farm\, Luna Mexican Cuisine and so many more)\, will be both auctioned and bundled into raffle baskets. Ways to get involved in Hakiym’s campaign as well as petitions to sign will also be available. \nRSVP on Eventbrite– Free with suggested sliding scale donation. \nHakiym provided the name for the event and is contributing to several aspects in ways that he can! Pictures of him on the attached flyer from left to right are of Hakiym reciting spoken word\, a mural dedicated to him in his hometown of downtown Cincinnati\, and in firefighter gear in Oregon. \nWays to Contribute to A.R.T. Wave: \n\nVolunteering – set-up and take down of event\, running sections of the event\, tech support\, etc.\nPerforming – We are looking for poets and musicians to share their talents live at the show (about 5-20 minute long performances). BIPOC performers will be prioritized. We are also planning a second event (a virtual benefit concert for a later date)\, so please indicate if you are interested in staying involved for that! Hakiym is a part of our local poetry scene\, so it would be especially meaningful to have overwhelming support from Southern Oregon’s creative arts community!\nSilent Auction & Raffle – We are asking for your support in the form of donated items for the auction and raffle. We envision larger items for a silent auction\, and smaller items to be bundled into raffle baskets. Your contribution\, whether a piece of art\, service\, gift certificate\, or any item of value would be greatly appreciated. All donations are needed and welcome.\nDonating Food or Drink – We want to sell food and drink (alcoholic and nonalcoholic) at the event as part of the fundraiser\, and are looking for donations so that all of the proceeds can go directly to the cause. Let us know if you or your business have anything you can donate in quantities large enough for 100-200 people.\n\nPlease fill out the A.R.T. Wave Interest Form to let us know how you’d like to contribute! All volunteers\, performers\, and donors will be honored and appropriately recognized for your support in helping to raise funds for Hakiym in his fight for freedom and against racial injustice. \nWe kindly ask that all responses be made as soon as possible so that we have enough time to work your contribution into the event. Deadline for performers and food is 3/22. Deadline for auction & raffle donations is 3/29. \nWhat will the raised funds be used for? \nAll funds raised will go to Hakiym’s support fund\, which will be used to support Hakiym’s survival while fighting unjust conviction and imprisonment. Everything in prison costs money– from personal hygiene items\, warm clothing\, extra food and phone calls and postage to stay in touch with his kids. With direction from Hakiym and his chosen support team\, funds may also be used to support travel and lodging for visiting family and supporters\, legal costs\, and other incidental costs that support the campaign to Free Hakiym. When Hakiym is free\, any left over funds will be used to support him and his family in recovering from the financial impacts of incarceration. \nDonate now on Venmo through @siskiyoumutualaid or on PayPal through siskiyoumutualaid@gmail.com Please include “Justice 4 Hakiym” in the memo. All donations are tax-deductible. \nThank you \nPlease share this info far and wide! Questions about A.R.T. Wave? Please reach out to j4hbenefit@gmail.com \nTo get involved in the Justice for Hakiym campaign and to stay updated on all the progress (like another large community meeting in Grants Pass on 4/12\, an upcoming Prayer Walk in May\, the upcoming Virtual Benefit Concert\, and more) please reach out to justiceforhakiym@gmail.com as there are so many needs for support. Hakiym’s appeal lawyer said that she moved his case to the top of her list based on community involvement! \n\n\n“…Thank you for bringing awareness to my unfortunate situation … May your kindness\, compassion\, and creativity help shine light\, chasing the darkness and ugliness of oppression away…Let’s get wavy! Let this not be a fleeting meeting but a continuation of Amazing Revolutionary Transformation.” \n\n\n\n\n  – Hakiym Sha’ir
URL:https://ashlandtogether.org/event/a-r-t-wave-fundraiser-for-hakiym/
LOCATION:Bellviewe Grange\, 1050 Tolman Creek Road\, Ashland\, OR\, 97520\, United States
ATTACH;FMTTYPE=image/jpeg:https://ashlandtogether.org/wp-content/uploads/2025/03/art-wave.jpeg
END:VEVENT
BEGIN:VEVENT
DTSTART;TZID=America/Los_Angeles:20250410T183000
DTEND;TZID=America/Los_Angeles:20250410T203000
DTSTAMP:20260424T022927
CREATED:20250324T001551Z
LAST-MODIFIED:20250401T170031Z
UID:4792-1744309800-1744317000@ashlandtogether.org
SUMMARY:Special Screening of Stripped for Parts
DESCRIPTION:An unflinching look at the dismantling of local news \n\n\n\nApril 10th @ 6:30 pm \n\n\nSOU Recital Hall 450 S. Mountain \nFREE ADMISSION \nWatch Trailer \n \n\n\n\n\nRyan Haas\, Oregon Public Broadcasting | Bert Etling\, Ashland.news | Regina Lawrence\, University of Oregon School of Journalism and Communication | Moderator:  David Sommers\, Ashland.news \n\n\n\n\nFollowed by a panel discussion with State & Local Media Experts: Ashland.news | Southern Oregon University Department of Communication\, Media & Cinema | University of Oregon School of Journalism  | Agora Journalism Center \nRegister here
URL:https://ashlandtogether.org/event/special-screening-of-stripped-for-parts/
LOCATION:SOU Music Recital Hall\, 450 S Mountain Street\, Ashland\, OR\, 97520\, United States
ATTACH;FMTTYPE=image/png:https://ashlandtogether.org/wp-content/uploads/2025/03/Stripped-for-Parts-Sneak-Preview-316-square-v2.png
END:VEVENT
BEGIN:VEVENT
DTSTART;VALUE=DATE:20250412
DTEND;VALUE=DATE:20250414
DTSTAMP:20260424T022927
CREATED:20250307T052333Z
LAST-MODIFIED:20250307T052333Z
UID:4740-1744416000-1744588799@ashlandtogether.org
SUMMARY:32nd Annual Powwow
DESCRIPTION:Hosted by SOU NATIVE AMERICAN STUDENT UNION \n  \nApril 12-13th\, 2025 \nLithia Motors Pavilion\, SOU campus\, Ashland\, OR \nGrand Entries – Saturday @ 12 pm and 7pm \n– Sunday @ 12pm \nfriendly competition jrs – adult categories \nEveryone is welcome to join! \n\nNo drugs or alcohol allowed\nNASU and SOU are not responsible for any lost or damaged items\nfor more info email nasusou1@gmail.com\n\nMC: David West \nArena Director: Rick Wilson \n*first 8 drums to show up guaranteed travel assistance (minimum of 5 singers
URL:https://ashlandtogether.org/event/32nd-annual-powwow/
LOCATION:Lithia Motors Pavilion SOU Campus
ATTACH;FMTTYPE=image/jpeg:https://ashlandtogether.org/wp-content/uploads/2025/03/pow-wow.jpg
END:VEVENT
BEGIN:VEVENT
DTSTART;VALUE=DATE:20250413
DTEND;VALUE=DATE:20250420
DTSTAMP:20260424T022927
CREATED:20250307T055205Z
LAST-MODIFIED:20250307T055428Z
UID:4760-1744502400-1745107199@ashlandtogether.org
SUMMARY:Independent Media Week
DESCRIPTION:Ashland Oregon’s 20th annual Independent Media Week showcases a coalition of independent media producers\, local activists and community groups organized around the theme “A well-informed citizenry is a cornerstone of democracy.” \nWe have a full week of events\, trainings and workshops planned. This year we are opening the Rogue River Room to artists and creators to\nshare the work folks are doing right here in our community. \n  \nINDEPENDENT MEDIA WEEK PROCLAMATION \n* An informed citizenry is a cornerstone of democracy. \n* An informed citizenry depends on unrestrained press\, which provides greater access to information\, more points of view and greater diversity of thought and fact. \n* The trend toward the consolidation of media ownership has resulted in journalistic practices that hinder public awareness by excluding or marginalizing minority and dissenting viewpoints.\n* Fewer media voices can result in homogenized messaging and the silencing of many points of view. \n* Democratic principles support the case for more independent media in this country\, not less. \nNOW\, THEREFORE\, I do hereby proclaim the week of April 13-19 as INDEPENDENT MEDIA WEEK and encourage all citizens to seek out and explore the rich diversity of independent media available within\, and to our community. \nMore Info \n 
URL:https://ashlandtogether.org/event/independent-media-week/
LOCATION:Ashland\, OR\, Ashland\, OR\, 97520\, United States
ATTACH;FMTTYPE=image/jpeg:https://ashlandtogether.org/wp-content/uploads/2025/03/independent-Media-Week.jpg
END:VEVENT
BEGIN:VEVENT
DTSTART;TZID=America/Los_Angeles:20250416T170000
DTEND;TZID=America/Los_Angeles:20250416T190000
DTSTAMP:20260424T022927
CREATED:20250325T015534Z
LAST-MODIFIED:20250411T002222Z
UID:4799-1744822800-1744830000@ashlandtogether.org
SUMMARY:You're Not Alone
DESCRIPTION:Easing our fears through access\, education\, and support \nWednesday\, April 16th\, 2025 \n5:30 – 7:00PM \n5PM Registration \nSecurity will be available. \nSouthern Oregon University\nStevenson Union (Third Floor)\n1250 Siskiyou Blvd\nAshland\, OR 97520 \nFeaturing panelists:  \nKelly Church\, she/her Family Nurse Practitioner\, La Clinica \nHan Jasper\, he/they/she RN BSNOHSU Nursing \nDanielle Mancuso\, they/she Community Building Coordinator \nMikki Gillette\, she/her Major Gifts Officer Basic Rights Oregon \nSPONSORED BY \nSOPride\, SO Health-E\, Rogue Action Center\, Ashland Together\, and Southern Oregon University
URL:https://ashlandtogether.org/event/youre-not-alone/
LOCATION:Stevenson Union\, SOU Campus\, Ashland
ATTACH;FMTTYPE=image/jpeg:https://ashlandtogether.org/wp-content/uploads/2025/03/Queer-Rights-Healthcare-Panel-2.jpeg
END:VEVENT
BEGIN:VEVENT
DTSTART;TZID=America/Los_Angeles:20250421T180000
DTEND;TZID=America/Los_Angeles:20250421T180000
DTSTAMP:20260424T022927
CREATED:20250226T234759Z
LAST-MODIFIED:20250401T170222Z
UID:4725-1745258400-1745258400@ashlandtogether.org
SUMMARY:Better Prepared Wildfire Series - Wildfire Preparedness
DESCRIPTION:Take Action to be Better Prepared! \n  \nAPRIL 21 \n6 to 8 p.m. \nCarpenter Hall \n44 S Pioneer \nWildfire Preparedness \nPreparing Family & Community \nMore info ashlandoregon.gov/ BetterPreparedSeries \nRegister Here \n  \nCommunity Partners \nAshland.news \nAshland Climate \nCollaborative \nAshland Together \n 
URL:https://ashlandtogether.org/event/better-prepared-wildfire-series-wildfire-preparedness/
LOCATION:Carpenter Hall\, 44 S Pioneer Street\, Ashland\, OR\, 97520
CATEGORIES:Featured
ATTACH;FMTTYPE=image/jpeg:https://ashlandtogether.org/wp-content/uploads/2025/02/Better-Prepared-Wildfire-Series-V5.jpeg
END:VEVENT
END:VCALENDAR