BEGIN:VCALENDAR
VERSION:2.0
PRODID:-//Ashland Together - ECPv6.15.20//NONSGML v1.0//EN
CALSCALE:GREGORIAN
METHOD:PUBLISH
X-WR-CALNAME:Ashland Together
X-ORIGINAL-URL:https://ashlandtogether.org
X-WR-CALDESC:Events for Ashland Together
REFRESH-INTERVAL;VALUE=DURATION:PT1H
X-Robots-Tag:noindex
X-PUBLISHED-TTL:PT1H
BEGIN:VTIMEZONE
TZID:America/Los_Angeles
BEGIN:DAYLIGHT
TZOFFSETFROM:-0800
TZOFFSETTO:-0700
TZNAME:PDT
DTSTART:20230312T100000
END:DAYLIGHT
BEGIN:STANDARD
TZOFFSETFROM:-0700
TZOFFSETTO:-0800
TZNAME:PST
DTSTART:20231105T090000
END:STANDARD
BEGIN:DAYLIGHT
TZOFFSETFROM:-0800
TZOFFSETTO:-0700
TZNAME:PDT
DTSTART:20240310T100000
END:DAYLIGHT
BEGIN:STANDARD
TZOFFSETFROM:-0700
TZOFFSETTO:-0800
TZNAME:PST
DTSTART:20241103T090000
END:STANDARD
BEGIN:DAYLIGHT
TZOFFSETFROM:-0800
TZOFFSETTO:-0700
TZNAME:PDT
DTSTART:20250309T100000
END:DAYLIGHT
BEGIN:STANDARD
TZOFFSETFROM:-0700
TZOFFSETTO:-0800
TZNAME:PST
DTSTART:20251102T090000
END:STANDARD
END:VTIMEZONE
BEGIN:VEVENT
DTSTART;TZID=America/Los_Angeles:20240611T110000
DTEND;TZID=America/Los_Angeles:20240611T120000
DTSTAMP:20260424T180359
CREATED:20240607T163825Z
LAST-MODIFIED:20240607T163825Z
UID:3412-1718103600-1718107200@ashlandtogether.org
SUMMARY:Juneteenth at Southern Oregon University
DESCRIPTION:Southern Oregon University will observe the Juneteenth holiday at 11 a.m. Tuesday\, June 11\, in front of Churchill Hall on the SOU Campus\, 1250 Siskiyou Blvd.\, Ashland. \nVaun Monroe will be the keynote speaker\, with additional remarks by Ashland City Councilwoman Gina DuQuenne\, President Rick Bailey\, and Assistant Vice President for Equity\, Diversity\, & Inclusion Jonathan Chavez Baez. \nThere will also be a flag-raising ceremony and refreshments.\n\n\n\n\n\nDate & Time:\nJune 11 @ 11:00 am – 12:00 pm\n\n\n\n\n\nCost:\nFree
URL:https://ashlandtogether.org/event/juneteenth-at-southern-oregon-university/
LOCATION:1250 Siskiyou Boulevard\, Ashland\, OR\, 1250 Siskiyou Blvd\, Ashland\, OR\, 97520\, United States
ATTACH;FMTTYPE=image/jpeg:https://ashlandtogether.org/wp-content/uploads/2024/06/2023-06-15-juneteenth-at-sou-flag-over-sou-BP622864.jpg
END:VEVENT
BEGIN:VEVENT
DTSTART;TZID=America/Los_Angeles:20240615T110000
DTEND;TZID=America/Los_Angeles:20240615T190000
DTSTAMP:20260424T180359
CREATED:20240607T163320Z
LAST-MODIFIED:20240607T163457Z
UID:3407-1718449200-1718478000@ashlandtogether.org
SUMMARY:Juneteenth
DESCRIPTION:Celebrate Freedom: Live Bands\, DJ\, Vendors\, Kids Zone\, and more… \nJune 15\, 2024 \nSaturday 11 AM – 7 PM \nPear Blossom Park\, 312 E. 4th Street\, Medford\, OR \nMore Info
URL:https://ashlandtogether.org/event/juneteenth-2/
LOCATION:Pear Blossom Park\, 212 N Bartlett St\, Medford\, OR\, 97501
CATEGORIES:Featured
ATTACH;FMTTYPE=image/jpeg:https://ashlandtogether.org/wp-content/uploads/2024/06/Juneteenth-flyer-2024.jpeg
END:VEVENT
BEGIN:VEVENT
DTSTART;VALUE=DATE:20240617
DTEND;VALUE=DATE:20240629
DTSTAMP:20260424T180359
CREATED:20240604T044943Z
LAST-MODIFIED:20240604T045027Z
UID:3385-1718582400-1719619199@ashlandtogether.org
SUMMARY:Kids' Theater Improvisation Summer Camps
DESCRIPTION:Brought to you by\, CREATIVITY ABOUNDS Inc. \n2 WEEKS! \n6-9 YEAR OLDS \nMon-Fri 1:00-4:00 \nJune 17th-28th \n  \nHeld at Rogue Valley Unitarian \nUniversalist Fellowship \nSIGN UP AND REGISTER NOW \nCALL SHANIQUE S. SCOTT AT 541-301-2189 \nOR EMAIL SHASH1975@YAHOO.COM \n  \nShanique has performed in Several Productions in the San Francisco Bay Area\, such as The Bluest Eye\, at the Lorraine Hansberry Theater\, Well\, by Lisa Kron\, and Song For Coretta\, by Pearl Cleage. Her appearance in festivals include\, Women’s Will Theatre Festival\, San Francisco Theatre Festival\, and The AFROSOLO Theatre Festival. Shanique has received her MFA in Performance at Arizona State University. Her ASU productions include\, The Fall of House of Escher\, MFA devised production\, POVV MFA devised production\, The House of The Spirits\, by Caridad Svitch\, and The Last Days of Judas Iscariot. Her Awards include: The ASU Mainstage Best Actress Award for 2012\, Special Talent Award\, and an Irene Ryan nomination for POVV. Shanique’s latest performance was BUILDING THE WALL\, by Robert Schenkkan.
URL:https://ashlandtogether.org/event/kids-theater-improvisation-summer-camps/
LOCATION:Rogue Valley Unitarian Universalist Fellowship\, 87 Fourth St.\, Ashland\, OR\, 97520\, United States
ATTACH;FMTTYPE=image/jpeg:https://ashlandtogether.org/wp-content/uploads/2024/06/shanique-camp.jpeg
END:VEVENT
BEGIN:VEVENT
DTSTART;TZID=America/Los_Angeles:20240619T160000
DTEND;TZID=America/Los_Angeles:20240619T190000
DTSTAMP:20260424T180359
CREATED:20240608T162837Z
LAST-MODIFIED:20240608T162837Z
UID:3425-1718812800-1718823600@ashlandtogether.org
SUMMARY:Grants Pass 2nd Annual Juneteenth Celebration
DESCRIPTION:Join us for our 2nd Annual Juneteenth Celebration!\n> Wednesday\, June 19 > 4:00pm-7:00pm> Riverside Park @ the Trillium Pavilion
URL:https://ashlandtogether.org/event/grants-pass-2nd-annual-juneteenth-celebration/
LOCATION:Riverside Park\, Grants Pass\, OR
ATTACH;FMTTYPE=application/pdf:https://ashlandtogether.org/wp-content/uploads/2024/06/Juneteenth-Flyer-2024-2.pdf
END:VEVENT
BEGIN:VEVENT
DTSTART;TZID=America/Los_Angeles:20240619T184500
DTEND;TZID=America/Los_Angeles:20240619T193000
DTSTAMP:20260424T180359
CREATED:20240607T165041Z
LAST-MODIFIED:20240607T165041Z
UID:3422-1718822700-1718825400@ashlandtogether.org
SUMMARY:OSF Green Show Juneteenth Celebration
DESCRIPTION:The Green Show presents a special program to mark Juneteenth. \nJune 19th\, 6:45-7:30 \nOregon Shakespeare Festival\, Pioneer Street. \nMore details
URL:https://ashlandtogether.org/event/osf-green-show-juneteenth-celebration/
LOCATION:Oregon Shakespeare Festival
ATTACH;FMTTYPE=image/jpeg:https://ashlandtogether.org/wp-content/uploads/2024/06/JuneteenthGR.jpg
END:VEVENT
END:VCALENDAR