BEGIN:VCALENDAR
VERSION:2.0
PRODID:-//Ashland Together - ECPv6.15.20//NONSGML v1.0//EN
CALSCALE:GREGORIAN
METHOD:PUBLISH
X-WR-CALNAME:Ashland Together
X-ORIGINAL-URL:https://ashlandtogether.org
X-WR-CALDESC:Events for Ashland Together
REFRESH-INTERVAL;VALUE=DURATION:PT1H
X-Robots-Tag:noindex
X-PUBLISHED-TTL:PT1H
BEGIN:VTIMEZONE
TZID:America/Los_Angeles
BEGIN:DAYLIGHT
TZOFFSETFROM:-0800
TZOFFSETTO:-0700
TZNAME:PDT
DTSTART:20220313T100000
END:DAYLIGHT
BEGIN:STANDARD
TZOFFSETFROM:-0700
TZOFFSETTO:-0800
TZNAME:PST
DTSTART:20221106T090000
END:STANDARD
BEGIN:DAYLIGHT
TZOFFSETFROM:-0800
TZOFFSETTO:-0700
TZNAME:PDT
DTSTART:20230312T100000
END:DAYLIGHT
BEGIN:STANDARD
TZOFFSETFROM:-0700
TZOFFSETTO:-0800
TZNAME:PST
DTSTART:20231105T090000
END:STANDARD
BEGIN:DAYLIGHT
TZOFFSETFROM:-0800
TZOFFSETTO:-0700
TZNAME:PDT
DTSTART:20240310T100000
END:DAYLIGHT
BEGIN:STANDARD
TZOFFSETFROM:-0700
TZOFFSETTO:-0800
TZNAME:PST
DTSTART:20241103T090000
END:STANDARD
END:VTIMEZONE
BEGIN:VEVENT
DTSTART;TZID=America/Los_Angeles:20230427T183000
DTEND;TZID=America/Los_Angeles:20230427T203000
DTSTAMP:20260425T085348
CREATED:20230408T002255Z
LAST-MODIFIED:20230412T024414Z
UID:1566-1682620200-1682627400@ashlandtogether.org
SUMMARY:Deconstructing Whiteness Monthly Meeting
DESCRIPTION:You are invited to join the monthly learning sessions of Deconstructing Whiteness. \n\n\n\n\n\n\nDeconstructing Whiteness meets\, via Zoom\, on the 4th Thursday of the month\, from 6:30-8:30 PM. \nThe next sessions are Thursday\, Apr. 27 & May 25. Followed by a summer break until Sept. \nTo RSVP\, write to dwlearningspace@gmail.com or Join DW’s mailing list to get the monthly invites. \n\n\n\nLearn More
URL:https://ashlandtogether.org/event/1566/
LOCATION:Online
CATEGORIES:Featured
ATTACH;FMTTYPE=image/jpeg:https://ashlandtogether.org/wp-content/uploads/2023/02/whiteness.jpeg
END:VEVENT
BEGIN:VEVENT
DTSTART;TZID=America/Los_Angeles:20230420T190000
DTEND;TZID=America/Los_Angeles:20230420T210000
DTSTAMP:20260425T085348
CREATED:20230412T022703Z
LAST-MODIFIED:20230412T023241Z
UID:1649-1682017200-1682024400@ashlandtogether.org
SUMMARY:The Hearth of Grants Pass
DESCRIPTION:The City of Grants Pass is making strides to transform from a Sundown Town to what Taylor Stewart\, founder of Oregon Remembrance describes as a Sunrise Community. \n\n\nTaylor will be among the storytellers at The Hearth of Grants Pass Thursday\, April 20th 7:00 to 9:00 pm\nBethany Presbyterian Church\nGrants Pass\, OR \n\n\nFor more information: The Hearth of Grants PassOregon Remembrance
URL:https://ashlandtogether.org/event/the-hearth-of-grants-pass/
LOCATION:Bethany Presbyterian Church\, 741 NW 4th St\, Grants Pass\, OR\, 97526
CATEGORIES:Featured
ATTACH;FMTTYPE=image/jpeg:https://ashlandtogether.org/wp-content/uploads/2023/04/oregon-remembrance-project.jpg
END:VEVENT
BEGIN:VEVENT
DTSTART;TZID=America/Los_Angeles:20230413T183000
DTEND;TZID=America/Los_Angeles:20230413T193000
DTSTAMP:20260425T085348
CREATED:20230408T001400Z
LAST-MODIFIED:20230408T003315Z
UID:1561-1681410600-1681414200@ashlandtogether.org
SUMMARY:Tackling Racism Monthly Meeting
DESCRIPTION:Last fall Lisa Ebony\, Founder of the BIPOC Sanctuary (BIPOC–Black Indigenous People of Color)\nbegan hosting multi-racial conversations via Zoom. \nLisa’s inspiration is to bring people together to talk about racial issues in a safe environment. \nRegister in advance for this meeting
URL:https://ashlandtogether.org/event/tackling-racism/
LOCATION:Online
CATEGORIES:Featured
END:VEVENT
BEGIN:VEVENT
DTSTART;TZID=America/Los_Angeles:20230406T173000
DTEND;TZID=America/Los_Angeles:20230406T183000
DTSTAMP:20260425T085348
CREATED:20230405T153110Z
LAST-MODIFIED:20230405T153203Z
UID:1520-1680802200-1680805800@ashlandtogether.org
SUMMARY:The Original Influencers - The Movements that Made a Nation Then\, Now\, Next
DESCRIPTION:We are stronger together! That’s the message of The Original Influencers\, brought to you by EDI and the Racial Equity Center of the Social Justice and Equity Center. From the Selma Marches to the Chicano Walkouts; from Women’s Liberation to Love Wins and Black Lives Matter\, come and consider the history of the nation changing movements with educators and longtime activists\, Geneva L. Craig\, PhD.\, RN and DL Richardson.
URL:https://ashlandtogether.org/event/the-original-influencers-the-movements-that-made-a-nation-then-now-next/
LOCATION:Meese Auditorium\, SOU\, 1250 Siskiyou Boulevard\, Ashland\, OR\, 97520
ATTACH;FMTTYPE=image/jpeg:https://ashlandtogether.org/wp-content/uploads/2023/04/Image-4-5-23-at-9.23-AM.jpg
END:VEVENT
BEGIN:VEVENT
DTSTART;TZID=America/Los_Angeles:20230402T130000
DTEND;TZID=America/Los_Angeles:20230402T150000
DTSTAMP:20260425T085348
CREATED:20230326T185641Z
LAST-MODIFIED:20230326T185701Z
UID:1368-1680440400-1680447600@ashlandtogether.org
SUMMARY:REBUILD The Say Their Names Memorial
DESCRIPTION:Let’s come together to rebuild the Say Their Names Memorial in response to ANOTHER ACT OF VANDALISM of the fence. We will lovingly place new shirts on the fence as an embodiment of our commitment to end r acial violence.
URL:https://ashlandtogether.org/event/rebuild-the-say-their-names-memorial/
LOCATION:Railroad Park\, Ashland\, A Street\, Ashland\, OR\, 97520\, United States
CATEGORIES:CALL TO ACTION,Featured
ATTACH;FMTTYPE=image/jpeg:https://ashlandtogether.org/wp-content/uploads/2023/03/railroad-park.jpg
END:VEVENT
END:VCALENDAR