BEGIN:VCALENDAR
VERSION:2.0
PRODID:-//Ashland Together - ECPv6.15.20//NONSGML v1.0//EN
CALSCALE:GREGORIAN
METHOD:PUBLISH
X-WR-CALNAME:Ashland Together
X-ORIGINAL-URL:https://ashlandtogether.org
X-WR-CALDESC:Events for Ashland Together
REFRESH-INTERVAL;VALUE=DURATION:PT1H
X-Robots-Tag:noindex
X-PUBLISHED-TTL:PT1H
BEGIN:VTIMEZONE
TZID:America/Los_Angeles
BEGIN:DAYLIGHT
TZOFFSETFROM:-0800
TZOFFSETTO:-0700
TZNAME:PDT
DTSTART:20240310T100000
END:DAYLIGHT
BEGIN:STANDARD
TZOFFSETFROM:-0700
TZOFFSETTO:-0800
TZNAME:PST
DTSTART:20241103T090000
END:STANDARD
BEGIN:DAYLIGHT
TZOFFSETFROM:-0800
TZOFFSETTO:-0700
TZNAME:PDT
DTSTART:20250309T100000
END:DAYLIGHT
BEGIN:STANDARD
TZOFFSETFROM:-0700
TZOFFSETTO:-0800
TZNAME:PST
DTSTART:20251102T090000
END:STANDARD
BEGIN:DAYLIGHT
TZOFFSETFROM:-0800
TZOFFSETTO:-0700
TZNAME:PDT
DTSTART:20260308T100000
END:DAYLIGHT
BEGIN:STANDARD
TZOFFSETFROM:-0700
TZOFFSETTO:-0800
TZNAME:PST
DTSTART:20261101T090000
END:STANDARD
END:VTIMEZONE
BEGIN:VEVENT
DTSTART;TZID=America/Los_Angeles:20250908T173000
DTEND;TZID=America/Los_Angeles:20250908T190000
DTSTAMP:20260423T233122
CREATED:20250811T174219Z
LAST-MODIFIED:20250901T020517Z
UID:5077-1757352600-1757358000@ashlandtogether.org
SUMMARY:INTO ACTION
DESCRIPTION:Ashland\, you have read books\, joined book clubs\, and attended ASP events at Carpenter Hall and elsewhere.\nNow is the time to organize and work towards the solution while engaging our community with a hands-on approach.\n\nLearn the exciting next steps!\nFREE EVENT \nMON\, SEPT 8\, 5:30 – 7:00 PM \nASHLAND PUBLIC LIBRARY \n410 Siskiyou Boulevard Ashland\, OR 97520
URL:https://ashlandtogether.org/event/into-action/
LOCATION:Ashland Public Library\, 410 Siskiyou Blvd\, Ashland
CATEGORIES:Featured
ATTACH;FMTTYPE=image/png:https://ashlandtogether.org/wp-content/uploads/2023/11/Ashland-Sunrise.png
END:VEVENT
END:VCALENDAR