BEGIN:VCALENDAR
VERSION:2.0
PRODID:-//Ashland Together - ECPv6.15.20//NONSGML v1.0//EN
CALSCALE:GREGORIAN
METHOD:PUBLISH
X-ORIGINAL-URL:https://ashlandtogether.org
X-WR-CALDESC:Events for Ashland Together
REFRESH-INTERVAL;VALUE=DURATION:PT1H
X-Robots-Tag:noindex
X-PUBLISHED-TTL:PT1H
BEGIN:VTIMEZONE
TZID:America/Los_Angeles
BEGIN:DAYLIGHT
TZOFFSETFROM:-0800
TZOFFSETTO:-0700
TZNAME:PDT
DTSTART:20230312T100000
END:DAYLIGHT
BEGIN:STANDARD
TZOFFSETFROM:-0700
TZOFFSETTO:-0800
TZNAME:PST
DTSTART:20231105T090000
END:STANDARD
BEGIN:DAYLIGHT
TZOFFSETFROM:-0800
TZOFFSETTO:-0700
TZNAME:PDT
DTSTART:20240310T100000
END:DAYLIGHT
BEGIN:STANDARD
TZOFFSETFROM:-0700
TZOFFSETTO:-0800
TZNAME:PST
DTSTART:20241103T090000
END:STANDARD
BEGIN:DAYLIGHT
TZOFFSETFROM:-0800
TZOFFSETTO:-0700
TZNAME:PDT
DTSTART:20250309T100000
END:DAYLIGHT
BEGIN:STANDARD
TZOFFSETFROM:-0700
TZOFFSETTO:-0800
TZNAME:PST
DTSTART:20251102T090000
END:STANDARD
END:VTIMEZONE
BEGIN:VEVENT
DTSTART;VALUE=DATE:20240330
DTEND;VALUE=DATE:20240401
DTSTAMP:20260425T065105
CREATED:20240229T184040Z
LAST-MODIFIED:20240324T212728Z
UID:2923-1711756800-1711929599@ashlandtogether.org
SUMMARY:CURA - Culture of Unity and Repair in Ashland
DESCRIPTION:New Cultivation has a two-day online summit coming up on March 30th and 31st \nCulture of Unity and Repair in Ashland/The America’s \nA yearly catalyst and a safe space for visionary leaders to express the visions we are needing to hear collectively to create change in land use\, housing\, resources and engage in creating and cultivating a culture of repair.\nOnline Summit – March 3031 \nJoin us for talks\, discussions\, and active conversations with experts in the fields of Equity\, Diversity\, Inclusion\, and Belonging. Gather with community to be in challenging conversations around topics that matter\, such as:  \n• Housing \n• Multi-level collapse \n• Food security \n• Safety for black and brown bodied people  \n• Land back movements
URL:https://ashlandtogether.org/event/cura-culture-of-unity-and-repair-in-ashland/
LOCATION:Online
CATEGORIES:Featured
ATTACH;FMTTYPE=image/jpeg:https://ashlandtogether.org/wp-content/uploads/2024/02/CURA-Updated-Event-Medium.jpeg
END:VEVENT
END:VCALENDAR