BEGIN:VCALENDAR
VERSION:2.0
PRODID:-//Ashland Together - ECPv6.15.20//NONSGML v1.0//EN
CALSCALE:GREGORIAN
METHOD:PUBLISH
X-ORIGINAL-URL:https://ashlandtogether.org
X-WR-CALDESC:Events for Ashland Together
REFRESH-INTERVAL;VALUE=DURATION:PT1H
X-Robots-Tag:noindex
X-PUBLISHED-TTL:PT1H
BEGIN:VTIMEZONE
TZID:America/Los_Angeles
BEGIN:DAYLIGHT
TZOFFSETFROM:-0800
TZOFFSETTO:-0700
TZNAME:PDT
DTSTART:20230312T100000
END:DAYLIGHT
BEGIN:STANDARD
TZOFFSETFROM:-0700
TZOFFSETTO:-0800
TZNAME:PST
DTSTART:20231105T090000
END:STANDARD
BEGIN:DAYLIGHT
TZOFFSETFROM:-0800
TZOFFSETTO:-0700
TZNAME:PDT
DTSTART:20240310T100000
END:DAYLIGHT
BEGIN:STANDARD
TZOFFSETFROM:-0700
TZOFFSETTO:-0800
TZNAME:PST
DTSTART:20241103T090000
END:STANDARD
BEGIN:DAYLIGHT
TZOFFSETFROM:-0800
TZOFFSETTO:-0700
TZNAME:PDT
DTSTART:20250309T100000
END:DAYLIGHT
BEGIN:STANDARD
TZOFFSETFROM:-0700
TZOFFSETTO:-0800
TZNAME:PST
DTSTART:20251102T090000
END:STANDARD
END:VTIMEZONE
BEGIN:VEVENT
DTSTART;TZID=America/Los_Angeles:20240228T180000
DTEND;TZID=America/Los_Angeles:20240228T193000
DTSTAMP:20260425T065059
CREATED:20240126T190932Z
LAST-MODIFIED:20240126T190933Z
UID:2696-1709143200-1709148600@ashlandtogether.org
SUMMARY:Living in My Black Skin
DESCRIPTION:Looking at our similarities and not our differences \nInstructor: Gina DuQuenne \nFREE EVENT \nFEBRUARY 28\, 2024 | 6PM \nCo-op Community Classroom \n300 N. PIONEER\, ASHLAND OR 97520 \nA robust\, open conversation with your city Councilor Gina DuQuenne\, the first openly Queer Black American to be an elected official in Southern Oregon. We will discuss micro-aggressions\, biases\, generational trauma and how we can learn and grow together in our community.
URL:https://ashlandtogether.org/event/living-in-my-black-skin/
LOCATION:Co-op Community Classrooom\, 300 N. Pioneer Street\, Ashland\, OR\, 97520
CATEGORIES:Featured
ATTACH;FMTTYPE=image/jpeg:https://ashlandtogether.org/wp-content/uploads/2024/01/IMG_3228-e1707983040880.jpeg
END:VEVENT
END:VCALENDAR