BEGIN:VCALENDAR
VERSION:2.0
PRODID:-//Ashland Together - ECPv6.15.20//NONSGML v1.0//EN
CALSCALE:GREGORIAN
METHOD:PUBLISH
X-WR-CALNAME:Ashland Together
X-ORIGINAL-URL:https://ashlandtogether.org
X-WR-CALDESC:Events for Ashland Together
REFRESH-INTERVAL;VALUE=DURATION:PT1H
X-Robots-Tag:noindex
X-PUBLISHED-TTL:PT1H
BEGIN:VTIMEZONE
TZID:America/Los_Angeles
BEGIN:DAYLIGHT
TZOFFSETFROM:-0800
TZOFFSETTO:-0700
TZNAME:PDT
DTSTART:20220313T100000
END:DAYLIGHT
BEGIN:STANDARD
TZOFFSETFROM:-0700
TZOFFSETTO:-0800
TZNAME:PST
DTSTART:20221106T090000
END:STANDARD
BEGIN:DAYLIGHT
TZOFFSETFROM:-0800
TZOFFSETTO:-0700
TZNAME:PDT
DTSTART:20230312T100000
END:DAYLIGHT
BEGIN:STANDARD
TZOFFSETFROM:-0700
TZOFFSETTO:-0800
TZNAME:PST
DTSTART:20231105T090000
END:STANDARD
BEGIN:DAYLIGHT
TZOFFSETFROM:-0800
TZOFFSETTO:-0700
TZNAME:PDT
DTSTART:20240310T100000
END:DAYLIGHT
BEGIN:STANDARD
TZOFFSETFROM:-0700
TZOFFSETTO:-0800
TZNAME:PST
DTSTART:20241103T090000
END:STANDARD
END:VTIMEZONE
BEGIN:VEVENT
DTSTART;VALUE=DATE:20230620
DTEND;VALUE=DATE:20230625
DTSTAMP:20260425T202033
CREATED:20230621T235700Z
LAST-MODIFIED:20230621T235700Z
UID:1755-1687219200-1687651199@ashlandtogether.org
SUMMARY:Indigenous Culture Overnight Camp
DESCRIPTION:A 5-day Cultural Immersion\nexperience for 25 Indigenous youth\nwho have completed\nSth\, 6th\, 7th or 8th grade.\n$200 (scholarships available)\nCall/email for Application\n541-301-7072\ndon.senter@kskq.org\nAmerican Indian Crafts\, Archery\, Games Drumming\, Nature\, Story Telling\, Music\,\nMini PowWow
URL:https://ashlandtogether.org/event/indigenous-culture-overnight-camp/
LOCATION:Lake of the Woods\, OR\, 97601
CATEGORIES:Featured
ATTACH;FMTTYPE=image/jpeg:https://ashlandtogether.org/wp-content/uploads/2023/06/indigenous-camp.jpeg
END:VEVENT
BEGIN:VEVENT
DTSTART;TZID=America/Los_Angeles:20230622T160000
DTEND;TZID=America/Los_Angeles:20230622T190000
DTSTAMP:20260425T202033
CREATED:20230621T235426Z
LAST-MODIFIED:20230621T235426Z
UID:1751-1687449600-1687460400@ashlandtogether.org
SUMMARY:Celebrating 40 Years at Peach House
DESCRIPTION:Peace House are hosting a summer solstice 40th Anniversary Party June 22 from 4-7 p.m. \nWe hope you will join us in celebrating four decades of social justice work with delicious food\, live music\, and social justice art exhibit. The event is free and open to the public!
URL:https://ashlandtogether.org/event/celebrating-40-years-at-peach-house/
LOCATION:Peace House\, 543 S. Mountain Street\, Ashland\, OR\, 97520
CATEGORIES:Featured
ATTACH;FMTTYPE=image/jpeg:https://ashlandtogether.org/wp-content/uploads/2023/06/peace-house-40.jpeg
END:VEVENT
END:VCALENDAR