BEGIN:VCALENDAR
VERSION:2.0
PRODID:-//Ashland Together - ECPv6.15.20//NONSGML v1.0//EN
CALSCALE:GREGORIAN
METHOD:PUBLISH
X-WR-CALNAME:Ashland Together
X-ORIGINAL-URL:https://ashlandtogether.org
X-WR-CALDESC:Events for Ashland Together
REFRESH-INTERVAL;VALUE=DURATION:PT1H
X-Robots-Tag:noindex
X-PUBLISHED-TTL:PT1H
BEGIN:VTIMEZONE
TZID:America/Los_Angeles
BEGIN:DAYLIGHT
TZOFFSETFROM:-0800
TZOFFSETTO:-0700
TZNAME:PDT
DTSTART:20240310T100000
END:DAYLIGHT
BEGIN:STANDARD
TZOFFSETFROM:-0700
TZOFFSETTO:-0800
TZNAME:PST
DTSTART:20241103T090000
END:STANDARD
BEGIN:DAYLIGHT
TZOFFSETFROM:-0800
TZOFFSETTO:-0700
TZNAME:PDT
DTSTART:20250309T100000
END:DAYLIGHT
BEGIN:STANDARD
TZOFFSETFROM:-0700
TZOFFSETTO:-0800
TZNAME:PST
DTSTART:20251102T090000
END:STANDARD
BEGIN:DAYLIGHT
TZOFFSETFROM:-0800
TZOFFSETTO:-0700
TZNAME:PDT
DTSTART:20260308T100000
END:DAYLIGHT
BEGIN:STANDARD
TZOFFSETFROM:-0700
TZOFFSETTO:-0800
TZNAME:PST
DTSTART:20261101T090000
END:STANDARD
END:VTIMEZONE
BEGIN:VEVENT
DTSTART;TZID=America/Los_Angeles:20250219T190000
DTEND;TZID=America/Los_Angeles:20250219T210000
DTSTAMP:20260424T085451
CREATED:20250212T230850Z
LAST-MODIFIED:20250212T230903Z
UID:4487-1739991600-1739998800@ashlandtogether.org
SUMMARY:Aretha Franklin Tribute
DESCRIPTION:Celebrate Black History Month with BASE at R.E.S.P.E.C.T.! \nJoin BASE for an unforgettable evening as we celebrate the life\, legacy\, and music of the Queen of Soul\, Aretha Franklin!    \nThis special tribute concert\, R.E.S.P.E.C.T.\, will take place on Wednesday\, February 19\, 2025\, at the Craterian Theater in Medford at 7:00 PM. \nWhy You Don’t Want to Miss This: \nExperience the power of Aretha’s greatest hits\, from “Respect” to “(You Make Me Feel Like) A Natural Woman” \nExclusive BASE Reception (6-7 PM): Meet up before the show for small bites\, drinks\, and a special tribute to Aretha’s impact\nSing\, dance\, and honor a legend who shaped music and the civil rights movement\nDiscount for BASE Subscribers! Use code BASE10 online for 10% off tickets or call the Box Office to skip the $2.50 ticket fee \nLocation: Craterian Theater\, Collier Center for the Performing Arts\, 23 S Central Avenue\, Medford \nGet tickets here: https://craterian.org/event/r-e-s-p-e-c-t/ \nLet’s come together for a night of music\, community\, and history as we celebrate Aretha Franklin’s timeless legacy. Secure your tickets today and join us for an evening of soul\, power\, and joy!  \nThank you  \nBASE TEAM 
URL:https://ashlandtogether.org/event/aretha-franklin-tribute/
LOCATION:Craterian Theater\, Collier Center for the Performing Arts\, 23 S Central Avenue\, Medford
CATEGORIES:Featured
ATTACH;FMTTYPE=image/jpeg:https://ashlandtogether.org/wp-content/uploads/2025/02/18f46e47-5c55-47cb-9afc-df583f1b3120.jpg
END:VEVENT
BEGIN:VEVENT
DTSTART;TZID=America/Los_Angeles:20250224T180000
DTEND;TZID=America/Los_Angeles:20250224T193000
DTSTAMP:20260424T085451
CREATED:20250202T065130Z
LAST-MODIFIED:20250224T212555Z
UID:4366-1740420000-1740425400@ashlandtogether.org
SUMMARY:How To Do No Harm and Be a Good Neighbor
DESCRIPTION:This event will also be live-streamed via the link below:\nhttps://www.youtube.com/@roguevalleyunitarianuniver8871 \nAshland Sunrise Project invites you to meet and hear from John Almaguer\, our local immigration attorney. John Almaguer is a Mexican American attorney at Stout Law. He has been practicing immigration law for 24 years in Southern Oregon. \nAlmaguer will be speaking on Monday\, February 24\, from 6pm–7:30pm at Rogue Valley Unitarian Universalist Fellowship (RVUUF)\, located at 87 Fourth Street\, Ashland. \nAshland Sunrise Project (ASP)\, a part of Oregon Remembrance Project (ORP)\, aims to help former sundown towns develop new identities as “sunrise communities\,” the opposite of a sundown town. Sunrise communities are places in which everyone can feel safe\, respected\, and can call home. \nASP thanks its community partners for this event\, which include: \nRVUUF\, Oregon Remembrance Project\, Unete Oregon\, Ashland Together\, Peace House\, and the City of Ashland’s Social Equity & Racial Justice Advisory Committee (SERJ). \nThis event is free. Please register below \nThis event will also be livestreamed via the link below:\nhttps://www.youtube.com/@roguevalleyunitarianuniver8871
URL:https://ashlandtogether.org/event/how-to-do-no-harm-and-be-a-good-neighbor/
LOCATION:Rogue Valley Unitarian Universalist Fellowship\, 87 Fourth St.\, Ashland\, OR\, 97520\, United States
CATEGORIES:Featured
ATTACH;FMTTYPE=image/png:https://ashlandtogether.org/wp-content/uploads/2025/02/How-to-do-no-harm-flyer-FB.png
END:VEVENT
END:VCALENDAR