BEGIN:VCALENDAR
VERSION:2.0
PRODID:-//Ashland Together - ECPv6.15.20//NONSGML v1.0//EN
CALSCALE:GREGORIAN
METHOD:PUBLISH
X-ORIGINAL-URL:https://ashlandtogether.org
X-WR-CALDESC:Events for Ashland Together
REFRESH-INTERVAL;VALUE=DURATION:PT1H
X-Robots-Tag:noindex
X-PUBLISHED-TTL:PT1H
BEGIN:VTIMEZONE
TZID:America/Los_Angeles
BEGIN:DAYLIGHT
TZOFFSETFROM:-0800
TZOFFSETTO:-0700
TZNAME:PDT
DTSTART:20240310T100000
END:DAYLIGHT
BEGIN:STANDARD
TZOFFSETFROM:-0700
TZOFFSETTO:-0800
TZNAME:PST
DTSTART:20241103T090000
END:STANDARD
BEGIN:DAYLIGHT
TZOFFSETFROM:-0800
TZOFFSETTO:-0700
TZNAME:PDT
DTSTART:20250309T100000
END:DAYLIGHT
BEGIN:STANDARD
TZOFFSETFROM:-0700
TZOFFSETTO:-0800
TZNAME:PST
DTSTART:20251102T090000
END:STANDARD
BEGIN:DAYLIGHT
TZOFFSETFROM:-0800
TZOFFSETTO:-0700
TZNAME:PDT
DTSTART:20260308T100000
END:DAYLIGHT
BEGIN:STANDARD
TZOFFSETFROM:-0700
TZOFFSETTO:-0800
TZNAME:PST
DTSTART:20261101T090000
END:STANDARD
END:VTIMEZONE
BEGIN:VEVENT
DTSTART;VALUE=DATE:20250606
DTEND;VALUE=DATE:20250629
DTSTAMP:20260424T010615
CREATED:20250424T233043Z
LAST-MODIFIED:20250608T011705Z
UID:4885-1749168000-1751155199@ashlandtogether.org
SUMMARY:Irene Kai - The Journey
DESCRIPTION:Opening 06.06.2025 @ 5PM \nArtist Reception with AAUW 06.14.2025 @ 3 PM \nAn internationally known artist\, author\, and speaker\, Irene Kai was born and raised in Hong Kong and traveled extensively. She received her BFA from the School of Visual Arts in NYC and MFA from the Royal College of Art in London and currently teaches Painting and Design at the Rogue Community College. Her work has been shown in galleries in London\, New York\, Los Angeles\, and southern Oregon. She posed for George Segal in 1976 and the sculptures of her image were in the Whitney Museum permanent collection. Irene designed the logo for the Culture of Peace Initiative\, a United Nations Peace Messenger Organization\, and her inspiring image hangs in the United Nations building in New York City. She Co-founded the Ashland Culture of Peace Commission and brought the World Peace Flame to Ashland from Wales. \nlrene’s award-winning books – What Do You See? – an experiential book. The Golden Mountain: Beyond the American Dream has been chosen for course studies in major universities\, an autobiography of four generations of women in her family\, a journey spanning over a hundred years of how their influences shaped her life. The healing process of writing this book sets the women free. By having the courage to speak out about family secrets\, Irene expresses her process of finding the light within through her paintings and her devotion to truth. To live in peace is to reconnect with our souls\, speaking from our hearts. To find the courage to transcend culture\, and to live authentically\, but most of all\, to love deeply. \n  \n  \n 
URL:https://ashlandtogether.org/event/irene-kai-the-journey/
LOCATION:Langford Art Gallery\, 4850 South Pacific Hwy\, Phoenix\, OR\, 97535\, United States
CATEGORIES:Featured
ATTACH;FMTTYPE=image/png:https://ashlandtogether.org/wp-content/uploads/2025/04/a2d15247-7079-c833-b2f1-567f0d786096.png
END:VEVENT
BEGIN:VEVENT
DTSTART;TZID=America/Los_Angeles:20250619T180000
DTEND;TZID=America/Los_Angeles:20250619T193000
DTSTAMP:20260424T010615
CREATED:20250607T220430Z
LAST-MODIFIED:20250607T220430Z
UID:5045-1750356000-1750361400@ashlandtogether.org
SUMMARY:Book Discussion with Mike Green
DESCRIPTION:You are invited to spend Juneteenth (June 19th from 6-7:30pm) at UCC Ashland learning from Mike Green\, founder of Common Ground Conversations and host of JPR’s Jefferson Exchange. Mike understands racial dynamics in the Rogue Valley as well as anyone\, and will facilitate an interactive (and potentially messy) conversation on Chapter 3: The Awareness of Ignorance\, From Generosity to Justice.
URL:https://ashlandtogether.org/event/book-discussion-with-mike-green/
LOCATION:UCC Peace Church\, 717 Siskiyou Boulevard\, Ashland\, OR\, 97520\, United States
ATTACH;FMTTYPE=image/jpeg:https://ashlandtogether.org/wp-content/uploads/2025/06/Mike-Green.jpeg
END:VEVENT
END:VCALENDAR