BEGIN:VCALENDAR
VERSION:2.0
PRODID:-//Ashland Together - ECPv6.15.20//NONSGML v1.0//EN
CALSCALE:GREGORIAN
METHOD:PUBLISH
X-WR-CALNAME:Ashland Together
X-ORIGINAL-URL:https://ashlandtogether.org
X-WR-CALDESC:Events for Ashland Together
REFRESH-INTERVAL;VALUE=DURATION:PT1H
X-Robots-Tag:noindex
X-PUBLISHED-TTL:PT1H
BEGIN:VTIMEZONE
TZID:America/Los_Angeles
BEGIN:DAYLIGHT
TZOFFSETFROM:-0800
TZOFFSETTO:-0700
TZNAME:PDT
DTSTART:20240310T100000
END:DAYLIGHT
BEGIN:STANDARD
TZOFFSETFROM:-0700
TZOFFSETTO:-0800
TZNAME:PST
DTSTART:20241103T090000
END:STANDARD
BEGIN:DAYLIGHT
TZOFFSETFROM:-0800
TZOFFSETTO:-0700
TZNAME:PDT
DTSTART:20250309T100000
END:DAYLIGHT
BEGIN:STANDARD
TZOFFSETFROM:-0700
TZOFFSETTO:-0800
TZNAME:PST
DTSTART:20251102T090000
END:STANDARD
BEGIN:DAYLIGHT
TZOFFSETFROM:-0800
TZOFFSETTO:-0700
TZNAME:PDT
DTSTART:20260308T100000
END:DAYLIGHT
BEGIN:STANDARD
TZOFFSETFROM:-0700
TZOFFSETTO:-0800
TZNAME:PST
DTSTART:20261101T090000
END:STANDARD
END:VTIMEZONE
BEGIN:VEVENT
DTSTART;VALUE=DATE:20250110
DTEND;VALUE=DATE:20250222
DTSTAMP:20260424T084710
CREATED:20250107T182725Z
LAST-MODIFIED:20250107T182725Z
UID:4330-1736467200-1740182399@ashlandtogether.org
SUMMARY:Journeys Of Resistance: Voices in Art
DESCRIPTION:For the second year\,\nthe Rogue Gallery & Art Center\nis hosting our Black artist showcase in their main gallery. \nEvent Details:\nThe exhibit will be open to the public from January 10th\nuntil February 21\, culminating in a special eventon Friday\, February 21\, 2025. This closing event will feature discussions about the artworks\,\npresentations by the artists\, and opportunities for the community\nto engage and connect.
URL:https://ashlandtogether.org/event/journeys-of-resistance-voices-in-art/
LOCATION:Rogue Gallery Art Center\, 40 S Bartlett St\, Medford\, OR\, 97501\, United States
ATTACH;FMTTYPE=image/png:https://ashlandtogether.org/wp-content/uploads/2025/01/1d1dc2fc-82ee-a803-b479-ec0b1a0919cd.png
ORGANIZER;CN="BASE":MAILTO:community@baseoregon.org
END:VEVENT
BEGIN:VEVENT
DTSTART;TZID=America/Los_Angeles:20250118T120000
DTEND;TZID=America/Los_Angeles:20250118T140000
DTSTAMP:20260424T084710
CREATED:20241124T015507Z
LAST-MODIFIED:20250107T182410Z
UID:4173-1737201600-1737208800@ashlandtogether.org
SUMMARY:Benefit Concert
DESCRIPTION:We will gather to connect\, build power\, and support local organizations that help people impacted by the incoming administration and its policies. \nWe organize in solidarity with the National People’s March\, but this event is about ACTION!! Please\, consider ways to invest your time and resources in our local community. Come on out and hear about the organizations doing the work and learn how you can help! Together WE rise! \nJanuary 18\, 2025 11:00 to 2:00 \n11:00 Doors and Food Truck Open \n12:00 – 2:00 Music and Guest Speakers Oak Knoll Golf Course 3070 Highway 66\, Ashland\, OR \nFeaturing \nAlice Di Micele and Bret Levick Bill Scholer and The Brash Band \nBlue Lightning \nThe Holy Misfits \nTommy Letchworth of Smiley T and The Tall Trees \nPlease: Carpool\, Wear Comfortable Shoes. Dress in layers. Bring Chairs and Umbrellas. Check the Women’s March Southern Oregon FB Event for parking suggestions\, last minute updates and live stream. Rain or Shine We RISE! \nGo to this link to show your support.
URL:https://ashlandtogether.org/event/womens-march/
LOCATION:Oak Knoll Golf Course\, 3070 OR-66\, Ashland\, OR\, 97520\, United States
CATEGORIES:Featured
ATTACH;FMTTYPE=image/jpeg:https://ashlandtogether.org/wp-content/uploads/2024/11/IMG_4207.jpeg
END:VEVENT
END:VCALENDAR