BEGIN:VCALENDAR
VERSION:2.0
PRODID:-//Ashland Together - ECPv6.15.20//NONSGML v1.0//EN
CALSCALE:GREGORIAN
METHOD:PUBLISH
X-WR-CALNAME:Ashland Together
X-ORIGINAL-URL:https://ashlandtogether.org
X-WR-CALDESC:Events for Ashland Together
REFRESH-INTERVAL;VALUE=DURATION:PT1H
X-Robots-Tag:noindex
X-PUBLISHED-TTL:PT1H
BEGIN:VTIMEZONE
TZID:America/Los_Angeles
BEGIN:DAYLIGHT
TZOFFSETFROM:-0800
TZOFFSETTO:-0700
TZNAME:PDT
DTSTART:20220313T100000
END:DAYLIGHT
BEGIN:STANDARD
TZOFFSETFROM:-0700
TZOFFSETTO:-0800
TZNAME:PST
DTSTART:20221106T090000
END:STANDARD
BEGIN:DAYLIGHT
TZOFFSETFROM:-0800
TZOFFSETTO:-0700
TZNAME:PDT
DTSTART:20230312T100000
END:DAYLIGHT
BEGIN:STANDARD
TZOFFSETFROM:-0700
TZOFFSETTO:-0800
TZNAME:PST
DTSTART:20231105T090000
END:STANDARD
BEGIN:DAYLIGHT
TZOFFSETFROM:-0800
TZOFFSETTO:-0700
TZNAME:PDT
DTSTART:20240310T100000
END:DAYLIGHT
BEGIN:STANDARD
TZOFFSETFROM:-0700
TZOFFSETTO:-0800
TZNAME:PST
DTSTART:20241103T090000
END:STANDARD
END:VTIMEZONE
BEGIN:VEVENT
DTSTART;VALUE=DATE:20231009
DTEND;VALUE=DATE:20231120
DTSTAMP:20260425T054200
CREATED:20230828T200322Z
LAST-MODIFIED:20230828T200502Z
UID:1766-1696809600-1700438399@ashlandtogether.org
SUMMARY:Support Black and Brown Entrepreneurs in Ashland
DESCRIPTION:Shanique Scott is an award-winning actress. Over the summer\, she offered improv classes to youths\, which were a great success. \nWhen it comes to stand-up comedy\, Shanique’s passion to help people come out of their shell is contagious. \n“I love the magic of stand-up.  I’ve never had a student\, even the ones on the sheepish side\, not be surprised when they find their inner comic.” Shanique Scott \nHer latest 6-week offering is for adults.\nIt runs from October 9th-November 19th\nCost:  $180 \nNo experience necessary. Be prepared to surprise yourself as you’re guided by your very own expert acting coach. \nShanique’s resume includes performing standup at New York’s Comedy Club and the Punchline in San Francisco.\nShe has a Master of Fine Arts degree and is a classically trained actress.
URL:https://ashlandtogether.org/event/support-black-and-brown-entrepreneurs-in-ashland/
CATEGORIES:Featured
ATTACH;FMTTYPE=image/jpeg:https://ashlandtogether.org/wp-content/uploads/2023/08/shanique-com.jpeg
END:VEVENT
BEGIN:VEVENT
DTSTART;TZID=America/Los_Angeles:20231105T150000
DTEND;TZID=America/Los_Angeles:20231105T170000
DTSTAMP:20260425T054200
CREATED:20231026T035752Z
LAST-MODIFIED:20231026T164208Z
UID:1800-1699196400-1699203600@ashlandtogether.org
SUMMARY:The Uptown String Quartet
DESCRIPTION:Anima Mundi Productions proudly hosts the reunion of the legendary Uptown String Quartet. \nAs ambassadors of the African American musical tradition\, the women of this revolutionary string quartet share a lifelong dedication to breaking barriers and expanding the horizons of concert music. \nPraised by The Washington Post for their “delightfully eclectic” repertoire\, this legendary ensemble have performed in famous concert halls\, taught at universities\, and played on Hollywood soundtracks (including a recent appearance in the 2019 Tom Hanks film\, A Beautiful Day in the Neighborhood). Now\, they’re bringing their decades of genre-bending virtuosity to Ashland for this unforgettable\, not-to-be-missed reunion concert. \n  \n\n\n\n\nNOTE: The Uptown String Quartet will be in residency in Ashland for one week.\nFor the full calendar of events\, please click HERE. \nWhat to know more….
URL:https://ashlandtogether.org/event/the-uptown-string-quartet/
LOCATION:SOU Music Recital Hall\, 450 S Mountain Street\, Ashland\, OR\, 97520\, United States
CATEGORIES:Featured
ATTACH;FMTTYPE=image/jpeg:https://ashlandtogether.org/wp-content/uploads/2023/10/Uptown-String-Quartet.jpeg
END:VEVENT
END:VCALENDAR