BEGIN:VCALENDAR
VERSION:2.0
PRODID:-//Ashland Together - ECPv6.15.20//NONSGML v1.0//EN
CALSCALE:GREGORIAN
METHOD:PUBLISH
X-ORIGINAL-URL:https://ashlandtogether.org
X-WR-CALDESC:Events for Ashland Together
REFRESH-INTERVAL;VALUE=DURATION:PT1H
X-Robots-Tag:noindex
X-PUBLISHED-TTL:PT1H
BEGIN:VTIMEZONE
TZID:America/Los_Angeles
BEGIN:DAYLIGHT
TZOFFSETFROM:-0800
TZOFFSETTO:-0700
TZNAME:PDT
DTSTART:20220313T100000
END:DAYLIGHT
BEGIN:STANDARD
TZOFFSETFROM:-0700
TZOFFSETTO:-0800
TZNAME:PST
DTSTART:20221106T090000
END:STANDARD
BEGIN:DAYLIGHT
TZOFFSETFROM:-0800
TZOFFSETTO:-0700
TZNAME:PDT
DTSTART:20230312T100000
END:DAYLIGHT
BEGIN:STANDARD
TZOFFSETFROM:-0700
TZOFFSETTO:-0800
TZNAME:PST
DTSTART:20231105T090000
END:STANDARD
BEGIN:DAYLIGHT
TZOFFSETFROM:-0800
TZOFFSETTO:-0700
TZNAME:PDT
DTSTART:20240310T100000
END:DAYLIGHT
BEGIN:STANDARD
TZOFFSETFROM:-0700
TZOFFSETTO:-0800
TZNAME:PST
DTSTART:20241103T090000
END:STANDARD
END:VTIMEZONE
BEGIN:VEVENT
DTSTART;TZID=America/Los_Angeles:20231003T183000
DTEND;TZID=America/Los_Angeles:20231003T210000
DTSTAMP:20260425T083421
CREATED:20230922T180036Z
LAST-MODIFIED:20230922T180204Z
UID:1778-1696357800-1696366800@ashlandtogether.org
SUMMARY:New Culture Building
DESCRIPTION:New Cultivation presents New Culture Building\, a class for local community members to connect and learn the basics of challenging conversation that leads to culture change. \nTonai Foster and Jaime Powell will offer a dialogue style portion of class\, and then guide a portion of class in triad forms\, groups of 3 people\,\ntaking turns to listen and share. Different prompts for individual\, triad and group conversation will be centered on the topic of anti-racism and healing racialized trauma. We will also use writing prompts\, journaling and opportunities for a group feedback and future visioning process at the end. \nLocation: Elder Apothecary\n5 N. Main St. #2\nAshland \nClick here to register
URL:https://ashlandtogether.org/event/new-culture-building/
LOCATION:Elder Apothecary\, 5 N. Main St. #2\, Ashland\, OR\, 97520
CATEGORIES:Featured
ATTACH;FMTTYPE=image/png:https://ashlandtogether.org/wp-content/uploads/2023/09/Tonai-and-Jaime.png
END:VEVENT
END:VCALENDAR