BEGIN:VCALENDAR
VERSION:2.0
PRODID:-//Ashland Together - ECPv6.15.20//NONSGML v1.0//EN
CALSCALE:GREGORIAN
METHOD:PUBLISH
X-WR-CALNAME:Ashland Together
X-ORIGINAL-URL:https://ashlandtogether.org
X-WR-CALDESC:Events for Ashland Together
REFRESH-INTERVAL;VALUE=DURATION:PT1H
X-Robots-Tag:noindex
X-PUBLISHED-TTL:PT1H
BEGIN:VTIMEZONE
TZID:America/Los_Angeles
BEGIN:DAYLIGHT
TZOFFSETFROM:-0800
TZOFFSETTO:-0700
TZNAME:PDT
DTSTART:20240310T100000
END:DAYLIGHT
BEGIN:STANDARD
TZOFFSETFROM:-0700
TZOFFSETTO:-0800
TZNAME:PST
DTSTART:20241103T090000
END:STANDARD
BEGIN:DAYLIGHT
TZOFFSETFROM:-0800
TZOFFSETTO:-0700
TZNAME:PDT
DTSTART:20250309T100000
END:DAYLIGHT
BEGIN:STANDARD
TZOFFSETFROM:-0700
TZOFFSETTO:-0800
TZNAME:PST
DTSTART:20251102T090000
END:STANDARD
BEGIN:DAYLIGHT
TZOFFSETFROM:-0800
TZOFFSETTO:-0700
TZNAME:PDT
DTSTART:20260308T100000
END:DAYLIGHT
BEGIN:STANDARD
TZOFFSETFROM:-0700
TZOFFSETTO:-0800
TZNAME:PST
DTSTART:20261101T090000
END:STANDARD
END:VTIMEZONE
BEGIN:VEVENT
DTSTART;TZID=America/Los_Angeles:20250606T170000
DTEND;TZID=America/Los_Angeles:20250606T180000
DTSTAMP:20260423T131609
CREATED:20250521T193903Z
LAST-MODIFIED:20250521T193903Z
UID:5013-1749229200-1749232800@ashlandtogether.org
SUMMARY:Unreal!
DESCRIPTION:A new devised performance created by the Empowered Arts Ensemble \nJUNE 6 @ 5pm \nJUNE 7 @ 7pm \nBellview Grange \n1050 Tolman Creek Rd \npay what you will
URL:https://ashlandtogether.org/event/unreal/
LOCATION:Bellviewe Grange\, 1050 Tolman Creek Road\, Ashland\, OR\, 97520\, United States
ATTACH;FMTTYPE=image/jpeg:https://ashlandtogether.org/wp-content/uploads/2025/05/Unreal-2.jpeg
END:VEVENT
END:VCALENDAR