BEGIN:VCALENDAR
VERSION:2.0
PRODID:-//Ashland Together - ECPv6.15.20//NONSGML v1.0//EN
CALSCALE:GREGORIAN
METHOD:PUBLISH
X-WR-CALNAME:Ashland Together
X-ORIGINAL-URL:https://ashlandtogether.org
X-WR-CALDESC:Events for Ashland Together
REFRESH-INTERVAL;VALUE=DURATION:PT1H
X-Robots-Tag:noindex
X-PUBLISHED-TTL:PT1H
BEGIN:VTIMEZONE
TZID:America/Los_Angeles
BEGIN:DAYLIGHT
TZOFFSETFROM:-0800
TZOFFSETTO:-0700
TZNAME:PDT
DTSTART:20220313T100000
END:DAYLIGHT
BEGIN:STANDARD
TZOFFSETFROM:-0700
TZOFFSETTO:-0800
TZNAME:PST
DTSTART:20221106T090000
END:STANDARD
BEGIN:DAYLIGHT
TZOFFSETFROM:-0800
TZOFFSETTO:-0700
TZNAME:PDT
DTSTART:20230312T100000
END:DAYLIGHT
BEGIN:STANDARD
TZOFFSETFROM:-0700
TZOFFSETTO:-0800
TZNAME:PST
DTSTART:20231105T090000
END:STANDARD
BEGIN:DAYLIGHT
TZOFFSETFROM:-0800
TZOFFSETTO:-0700
TZNAME:PDT
DTSTART:20240310T100000
END:DAYLIGHT
BEGIN:STANDARD
TZOFFSETFROM:-0700
TZOFFSETTO:-0800
TZNAME:PST
DTSTART:20241103T090000
END:STANDARD
END:VTIMEZONE
BEGIN:VEVENT
DTSTART;TZID=America/Los_Angeles:20230413T183000
DTEND;TZID=America/Los_Angeles:20230413T193000
DTSTAMP:20260423T183820
CREATED:20230408T001400Z
LAST-MODIFIED:20230408T003315Z
UID:1561-1681410600-1681414200@ashlandtogether.org
SUMMARY:Tackling Racism Monthly Meeting
DESCRIPTION:Last fall Lisa Ebony\, Founder of the BIPOC Sanctuary (BIPOC–Black Indigenous People of Color)\nbegan hosting multi-racial conversations via Zoom. \nLisa’s inspiration is to bring people together to talk about racial issues in a safe environment. \nRegister in advance for this meeting
URL:https://ashlandtogether.org/event/tackling-racism/
LOCATION:Online
CATEGORIES:Featured
END:VEVENT
END:VCALENDAR