BEGIN:VCALENDAR
VERSION:2.0
PRODID:-//Ashland Together - ECPv6.15.20//NONSGML v1.0//EN
CALSCALE:GREGORIAN
METHOD:PUBLISH
X-WR-CALNAME:Ashland Together
X-ORIGINAL-URL:https://ashlandtogether.org
X-WR-CALDESC:Events for Ashland Together
REFRESH-INTERVAL;VALUE=DURATION:PT1H
X-Robots-Tag:noindex
X-PUBLISHED-TTL:PT1H
BEGIN:VTIMEZONE
TZID:America/Los_Angeles
BEGIN:DAYLIGHT
TZOFFSETFROM:-0800
TZOFFSETTO:-0700
TZNAME:PDT
DTSTART:20230312T100000
END:DAYLIGHT
BEGIN:STANDARD
TZOFFSETFROM:-0700
TZOFFSETTO:-0800
TZNAME:PST
DTSTART:20231105T090000
END:STANDARD
BEGIN:DAYLIGHT
TZOFFSETFROM:-0800
TZOFFSETTO:-0700
TZNAME:PDT
DTSTART:20240310T100000
END:DAYLIGHT
BEGIN:STANDARD
TZOFFSETFROM:-0700
TZOFFSETTO:-0800
TZNAME:PST
DTSTART:20241103T090000
END:STANDARD
BEGIN:DAYLIGHT
TZOFFSETFROM:-0800
TZOFFSETTO:-0700
TZNAME:PDT
DTSTART:20250309T100000
END:DAYLIGHT
BEGIN:STANDARD
TZOFFSETFROM:-0700
TZOFFSETTO:-0800
TZNAME:PST
DTSTART:20251102T090000
END:STANDARD
END:VTIMEZONE
BEGIN:VEVENT
DTSTART;TZID=America/Los_Angeles:20240217T150000
DTEND;TZID=America/Los_Angeles:20240217T150000
DTSTAMP:20260423T163801
CREATED:20240208T195750Z
LAST-MODIFIED:20240208T195803Z
UID:2786-1708182000-1708182000@ashlandtogether.org
SUMMARY:Storytelling and Potluck Lunch with David West
DESCRIPTION:On Saturday\, February 17 @ 3:00pm in the Great Hall RVUUF will host a potluck and storytelling afternoon with David West\, (Enrolled: Citizen Potawatomi Nation) and Director Emeritus of SOU’s Native American Studies Program. \nAfter inviting everyone to share in a water and food blessing\, David will share stories with a focus on water and seven generations planning. \nThis is a wonderful opportunity to experience traditional oral storytelling from one who was raised and trained in this tradition.  As David says\, \n“Come and listen because in that storytelling there may be one word\, one sentence\, one story that was meant just for you.  And it might answer a question of need that you hadn’t even asked.  That’s the wisdom of this storytelling time.”  \nBring your favorite potluck dish (hot or cold) to share.  Also\, please bring your own table setting\, mug and silverware. \nRVUUF will provide paper napkins\, coffee\, tea\, and water.
URL:https://ashlandtogether.org/event/storytelling-and-potluck-lunch-with-david-west/
LOCATION:Rogue Valley Unitarian Universalist Fellowship\, 87 Fourth St.\, Ashland\, OR\, 97520\, United States
CATEGORIES:Featured
ATTACH;FMTTYPE=image/jpeg:https://ashlandtogether.org/wp-content/uploads/2024/02/c12e84ab-ff7e-1a40-44cb-413d36cbd70a.jpg
END:VEVENT
END:VCALENDAR