BEGIN:VCALENDAR
VERSION:2.0
PRODID:-//Ashland Together - ECPv6.15.20//NONSGML v1.0//EN
CALSCALE:GREGORIAN
METHOD:PUBLISH
X-WR-CALNAME:Ashland Together
X-ORIGINAL-URL:https://ashlandtogether.org
X-WR-CALDESC:Events for Ashland Together
REFRESH-INTERVAL;VALUE=DURATION:PT1H
X-Robots-Tag:noindex
X-PUBLISHED-TTL:PT1H
BEGIN:VTIMEZONE
TZID:America/Los_Angeles
BEGIN:DAYLIGHT
TZOFFSETFROM:-0800
TZOFFSETTO:-0700
TZNAME:PDT
DTSTART:20220313T100000
END:DAYLIGHT
BEGIN:STANDARD
TZOFFSETFROM:-0700
TZOFFSETTO:-0800
TZNAME:PST
DTSTART:20221106T090000
END:STANDARD
BEGIN:DAYLIGHT
TZOFFSETFROM:-0800
TZOFFSETTO:-0700
TZNAME:PDT
DTSTART:20230312T100000
END:DAYLIGHT
BEGIN:STANDARD
TZOFFSETFROM:-0700
TZOFFSETTO:-0800
TZNAME:PST
DTSTART:20231105T090000
END:STANDARD
BEGIN:DAYLIGHT
TZOFFSETFROM:-0800
TZOFFSETTO:-0700
TZNAME:PDT
DTSTART:20240310T100000
END:DAYLIGHT
BEGIN:STANDARD
TZOFFSETFROM:-0700
TZOFFSETTO:-0800
TZNAME:PST
DTSTART:20241103T090000
END:STANDARD
END:VTIMEZONE
BEGIN:VEVENT
DTSTART;TZID=America/Los_Angeles:20230512T110000
DTEND;TZID=America/Los_Angeles:20230512T170000
DTSTAMP:20260423T152215
CREATED:20230509T153257Z
LAST-MODIFIED:20230509T164617Z
UID:1722-1683889200-1683910800@ashlandtogether.org
SUMMARY:Sentencing Hearing
DESCRIPTION:Support needed both inside and outside the courtroom on Friday\, May 12th at 11:00 am\nfor the Sentencing Hearing of Robert Keegan \nOn Monday\, a 12-person jury unanimously found Robert Keegan not guilty of the charge of second-degree murder for the shooting of 19 year old Aidan Ellison. \nInstead he was found guilty of first-degree manslaughter\, unlawful possession of a firearm and recklessly endangering another person. \n“I ask for the maximum sentencing for Keegan…Aidan is dead forever.”—Gina DuQuenne \n  \nAnother way to help… \nWrite to the judge and ask him to sentence Robert Keegan to the full extent of the law.\nAlso\, ask for sentencing of all three charges consecutively. \nThe Honorable Tim Barnack\nTim.Barnack@ojd.state.or.us \nA handwritten note delivered to his chamber would also be helpful. \n100 S. Oakdale\nMedford  97501
URL:https://ashlandtogether.org/event/sentencing-hearing/
LOCATION:Medford County Courthouse\, 100 South Oakdale\, Medford\, OR\, 97501\, United States
CATEGORIES:CALL TO ACTION,Featured
ATTACH;FMTTYPE=image/jpeg:https://ashlandtogether.org/wp-content/uploads/2023/02/aidan-plaque.jpeg
END:VEVENT
END:VCALENDAR