BEGIN:VCALENDAR
VERSION:2.0
PRODID:-//Ashland Together - ECPv6.15.20//NONSGML v1.0//EN
CALSCALE:GREGORIAN
METHOD:PUBLISH
X-WR-CALNAME:Ashland Together
X-ORIGINAL-URL:https://ashlandtogether.org
X-WR-CALDESC:Events for Ashland Together
REFRESH-INTERVAL;VALUE=DURATION:PT1H
X-Robots-Tag:noindex
X-PUBLISHED-TTL:PT1H
BEGIN:VTIMEZONE
TZID:America/Los_Angeles
BEGIN:DAYLIGHT
TZOFFSETFROM:-0800
TZOFFSETTO:-0700
TZNAME:PDT
DTSTART:20220313T100000
END:DAYLIGHT
BEGIN:STANDARD
TZOFFSETFROM:-0700
TZOFFSETTO:-0800
TZNAME:PST
DTSTART:20221106T090000
END:STANDARD
BEGIN:DAYLIGHT
TZOFFSETFROM:-0800
TZOFFSETTO:-0700
TZNAME:PDT
DTSTART:20230312T100000
END:DAYLIGHT
BEGIN:STANDARD
TZOFFSETFROM:-0700
TZOFFSETTO:-0800
TZNAME:PST
DTSTART:20231105T090000
END:STANDARD
BEGIN:DAYLIGHT
TZOFFSETFROM:-0800
TZOFFSETTO:-0700
TZNAME:PDT
DTSTART:20240310T100000
END:DAYLIGHT
BEGIN:STANDARD
TZOFFSETFROM:-0700
TZOFFSETTO:-0800
TZNAME:PST
DTSTART:20241103T090000
END:STANDARD
END:VTIMEZONE
BEGIN:VEVENT
DTSTART;TZID=America/Los_Angeles:20230520T150000
DTEND;TZID=America/Los_Angeles:20230520T163000
DTSTAMP:20260423T181011
CREATED:20230506T160255Z
LAST-MODIFIED:20230506T160255Z
UID:1712-1684594800-1684600200@ashlandtogether.org
SUMMARY:Sam Roxas-Chua to speak at Grizzly Peak Winery for AAPI Month
DESCRIPTION:During May (which is Asian American Pacific Islander month)\, SOU’s Office for Equity\, Diversity\, & Inclusion are collaborating with several different groups (including the Southern Oregon Chinese Cultural Association and Oregon Historical Society) to bring Sam Roxas-Chua to speak at Grizzly Peak Winery on Saturday\, May 20th at 3 PM. Sam will present a multi-multimedia account of his time as an artist-in-residence at the Portland Chinatown Museum.
URL:https://ashlandtogether.org/event/sam-roxas-chua-to-speak-at-grizzly-peak-winery-for-aapi-month/
LOCATION:Grizzly Peak Winery\, 1600 E Nevada St\, Ashland\, OR\, 97520
CATEGORIES:Featured
ATTACH;FMTTYPE=image/jpeg:https://ashlandtogether.org/wp-content/uploads/2023/05/chua.jpg
END:VEVENT
END:VCALENDAR