BEGIN:VCALENDAR
VERSION:2.0
PRODID:-//Ashland Together - ECPv6.15.20//NONSGML v1.0//EN
CALSCALE:GREGORIAN
METHOD:PUBLISH
X-WR-CALNAME:Ashland Together
X-ORIGINAL-URL:https://ashlandtogether.org
X-WR-CALDESC:Events for Ashland Together
REFRESH-INTERVAL;VALUE=DURATION:PT1H
X-Robots-Tag:noindex
X-PUBLISHED-TTL:PT1H
BEGIN:VTIMEZONE
TZID:America/Los_Angeles
BEGIN:DAYLIGHT
TZOFFSETFROM:-0800
TZOFFSETTO:-0700
TZNAME:PDT
DTSTART:20230312T100000
END:DAYLIGHT
BEGIN:STANDARD
TZOFFSETFROM:-0700
TZOFFSETTO:-0800
TZNAME:PST
DTSTART:20231105T090000
END:STANDARD
BEGIN:DAYLIGHT
TZOFFSETFROM:-0800
TZOFFSETTO:-0700
TZNAME:PDT
DTSTART:20240310T100000
END:DAYLIGHT
BEGIN:STANDARD
TZOFFSETFROM:-0700
TZOFFSETTO:-0800
TZNAME:PST
DTSTART:20241103T090000
END:STANDARD
BEGIN:DAYLIGHT
TZOFFSETFROM:-0800
TZOFFSETTO:-0700
TZNAME:PDT
DTSTART:20250309T100000
END:DAYLIGHT
BEGIN:STANDARD
TZOFFSETFROM:-0700
TZOFFSETTO:-0800
TZNAME:PST
DTSTART:20251102T090000
END:STANDARD
END:VTIMEZONE
BEGIN:VEVENT
DTSTART;TZID=America/Los_Angeles:20241005T100000
DTEND;TZID=America/Los_Angeles:20241005T133000
DTSTAMP:20260424T074217
CREATED:20240910T173245Z
LAST-MODIFIED:20240910T173501Z
UID:3713-1728122400-1728135000@ashlandtogether.org
SUMMARY:Pride Parade
DESCRIPTION:Pride Parade\, Saturday\, Oct 5\, 10 AM \nCelebrating the freedom to love \nParade down Main from Union Street to Lithia Park. Bring your pride and march with us\, or be a spectator. \nDon’t Miss “Lizard Boy\,” aka Justin Huertas who is our grand marshall this year \nFestival at the Bandshell 11-1:30 \nDrag\, Aerial\, Live Music\, Vendors\, Food Truck \nLearn more at SOPride.org
URL:https://ashlandtogether.org/event/pride-parade/
LOCATION:Main Street\, Ashland\, OR\, Main Street\, Ashland\, OR
ATTACH;FMTTYPE=image/png:https://ashlandtogether.org/wp-content/uploads/2024/09/SOPride-Parade-Facebook-Post.png
END:VEVENT
END:VCALENDAR