BEGIN:VCALENDAR
VERSION:2.0
PRODID:-//Ashland Together - ECPv6.15.20//NONSGML v1.0//EN
CALSCALE:GREGORIAN
METHOD:PUBLISH
X-WR-CALNAME:Ashland Together
X-ORIGINAL-URL:https://ashlandtogether.org
X-WR-CALDESC:Events for Ashland Together
REFRESH-INTERVAL;VALUE=DURATION:PT1H
X-Robots-Tag:noindex
X-PUBLISHED-TTL:PT1H
BEGIN:VTIMEZONE
TZID:America/Los_Angeles
BEGIN:DAYLIGHT
TZOFFSETFROM:-0800
TZOFFSETTO:-0700
TZNAME:PDT
DTSTART:20230312T100000
END:DAYLIGHT
BEGIN:STANDARD
TZOFFSETFROM:-0700
TZOFFSETTO:-0800
TZNAME:PST
DTSTART:20231105T090000
END:STANDARD
BEGIN:DAYLIGHT
TZOFFSETFROM:-0800
TZOFFSETTO:-0700
TZNAME:PDT
DTSTART:20240310T100000
END:DAYLIGHT
BEGIN:STANDARD
TZOFFSETFROM:-0700
TZOFFSETTO:-0800
TZNAME:PST
DTSTART:20241103T090000
END:STANDARD
BEGIN:DAYLIGHT
TZOFFSETFROM:-0800
TZOFFSETTO:-0700
TZNAME:PDT
DTSTART:20250309T100000
END:DAYLIGHT
BEGIN:STANDARD
TZOFFSETFROM:-0700
TZOFFSETTO:-0800
TZNAME:PST
DTSTART:20251102T090000
END:STANDARD
END:VTIMEZONE
BEGIN:VEVENT
DTSTART;TZID=America/Los_Angeles:20240210T190000
DTEND;TZID=America/Los_Angeles:20240210T190000
DTSTAMP:20260423T132835
CREATED:20240130T172509Z
LAST-MODIFIED:20240202T193702Z
UID:2704-1707591600-1707591600@ashlandtogether.org
SUMMARY:Origin - Special Screening - SOLD OUT
DESCRIPTION:Special Screening of Origin at The Varsity in Ashland\, OR\nFebruary 10th at 7 PM\nAcademy Award Nominee Ava DuVernay’s New Film:  Origin\nBased on the New York Times Bestselling Book by Isabel Wilkerson\nCaste:  The Origins of Our Discontents\n\n\nWill be followed by a Q&A\n\nNOTE: THIS SPECIAL SCREENING IS SOLD OUT BUT YOU CAN FIND OTHER SHOWTIMES OF ORIGIN HERE:\n\nGet Tickets Here\n\nCommunity Partners:\n\nBASE\, BSOA\, OSF\, SOU\, Peace House\, Say Their Names
URL:https://ashlandtogether.org/event/origin-special-screening/
LOCATION:The Varsity\, 166 E. Main Street\, Ashland\, OR\, 97520
CATEGORIES:Featured
ATTACH;FMTTYPE=image/jpeg:https://ashlandtogether.org/wp-content/uploads/2024/01/ORIGIN-digital-invite-4.jpeg
END:VEVENT
END:VCALENDAR