BEGIN:VCALENDAR
VERSION:2.0
PRODID:-//Ashland Together - ECPv6.15.20//NONSGML v1.0//EN
CALSCALE:GREGORIAN
METHOD:PUBLISH
X-WR-CALNAME:Ashland Together
X-ORIGINAL-URL:https://ashlandtogether.org
X-WR-CALDESC:Events for Ashland Together
REFRESH-INTERVAL;VALUE=DURATION:PT1H
X-Robots-Tag:noindex
X-PUBLISHED-TTL:PT1H
BEGIN:VTIMEZONE
TZID:America/Los_Angeles
BEGIN:DAYLIGHT
TZOFFSETFROM:-0800
TZOFFSETTO:-0700
TZNAME:PDT
DTSTART:20230312T100000
END:DAYLIGHT
BEGIN:STANDARD
TZOFFSETFROM:-0700
TZOFFSETTO:-0800
TZNAME:PST
DTSTART:20231105T090000
END:STANDARD
BEGIN:DAYLIGHT
TZOFFSETFROM:-0800
TZOFFSETTO:-0700
TZNAME:PDT
DTSTART:20240310T100000
END:DAYLIGHT
BEGIN:STANDARD
TZOFFSETFROM:-0700
TZOFFSETTO:-0800
TZNAME:PST
DTSTART:20241103T090000
END:STANDARD
BEGIN:DAYLIGHT
TZOFFSETFROM:-0800
TZOFFSETTO:-0700
TZNAME:PDT
DTSTART:20250309T100000
END:DAYLIGHT
BEGIN:STANDARD
TZOFFSETFROM:-0700
TZOFFSETTO:-0800
TZNAME:PST
DTSTART:20251102T090000
END:STANDARD
END:VTIMEZONE
BEGIN:VEVENT
DTSTART;TZID=America/Los_Angeles:20240212T180000
DTEND;TZID=America/Los_Angeles:20240212T193000
DTSTAMP:20260423T163802
CREATED:20240105T181314Z
LAST-MODIFIED:20240213T013955Z
UID:2087-1707760800-1707766200@ashlandtogether.org
SUMMARY:Launch of the Ashland Sunrise Project
DESCRIPTION:This event will kick-off the launch of the Sunrise Project in Ashland. The Sunrise Project aims to help former sundown towns reconcile their history of racial exclusion by creating new identities as that of “sunrise communities\,” the opposite to sundown towns. After starting in Grants Pass\, the Oregon Remembrance Project is now working with community members in Ashland to bring this vision of belonging for all to our community. Learn more about the project and how you can join us in rewriting the ending to the story of a sundown town. \nFREE EVENT\n(Register Below) \nFeatured Speakers: Taylor Stewart (Oregon Remembrance Project)\, Gabi Johnsen (Grants Pass Remembrance)\, & Anna Sloan (Southern Oregon Historical Society). \nMonday\, February 12\, 6:00 – 7:30 PM\nOSF Carpenter Hall\, 44 S Pioneer St\, Ashland \nAbout Oregon Remembrance
URL:https://ashlandtogether.org/event/launch-of-the-ashland-sunrise-project/
LOCATION:Carpenter Hall\, 44 S Pioneer Street\, Ashland\, OR\, 97520
CATEGORIES:Featured
ATTACH;FMTTYPE=image/jpeg:https://ashlandtogether.org/wp-content/uploads/2024/01/green-book.jpg
END:VEVENT
END:VCALENDAR