BEGIN:VCALENDAR
VERSION:2.0
PRODID:-//Ashland Together - ECPv6.15.20//NONSGML v1.0//EN
CALSCALE:GREGORIAN
METHOD:PUBLISH
X-WR-CALNAME:Ashland Together
X-ORIGINAL-URL:https://ashlandtogether.org
X-WR-CALDESC:Events for Ashland Together
REFRESH-INTERVAL;VALUE=DURATION:PT1H
X-Robots-Tag:noindex
X-PUBLISHED-TTL:PT1H
BEGIN:VTIMEZONE
TZID:America/Los_Angeles
BEGIN:DAYLIGHT
TZOFFSETFROM:-0800
TZOFFSETTO:-0700
TZNAME:PDT
DTSTART:20220313T100000
END:DAYLIGHT
BEGIN:STANDARD
TZOFFSETFROM:-0700
TZOFFSETTO:-0800
TZNAME:PST
DTSTART:20221106T090000
END:STANDARD
BEGIN:DAYLIGHT
TZOFFSETFROM:-0800
TZOFFSETTO:-0700
TZNAME:PDT
DTSTART:20230312T100000
END:DAYLIGHT
BEGIN:STANDARD
TZOFFSETFROM:-0700
TZOFFSETTO:-0800
TZNAME:PST
DTSTART:20231105T090000
END:STANDARD
BEGIN:DAYLIGHT
TZOFFSETFROM:-0800
TZOFFSETTO:-0700
TZNAME:PDT
DTSTART:20240310T100000
END:DAYLIGHT
BEGIN:STANDARD
TZOFFSETFROM:-0700
TZOFFSETTO:-0800
TZNAME:PST
DTSTART:20241103T090000
END:STANDARD
END:VTIMEZONE
BEGIN:VEVENT
DTSTART;TZID=America/Los_Angeles:20230501T130000
DTEND;TZID=America/Los_Angeles:20230501T140000
DTSTAMP:20260423T152159
CREATED:20230219T222445Z
LAST-MODIFIED:20230429T164141Z
UID:219-1682946000-1682949600@ashlandtogether.org
SUMMARY:CALL TO ACTION - Justice for Aidan
DESCRIPTION:Rally at Ashland High School Monday\, May 1st at 1:00 pm\n201 S. Mountain Ave\n(Mural at the intersection of Mountain and Iowa)\n\nAshland High School’s Truth to Power will be holding a rally to mark the beginning of the trial of Robert Keegan\nwho was charged in the murder of Aidan Ellison\, a young Black man and former student at Ashland High School in 2020.\nSpeakers to include members of Truth to Power and Black community leaders.Please come and show your support\nfor Aidan’s family. \n\n\nFor more information about the trial\,\nclick on the link below\nJackson Country trial over killing of Black teenager\nstarts on Monday
URL:https://ashlandtogether.org/event/justice-for-aidan/
LOCATION:Aidan Ellison Mural\, 201 S. Mountain Ave\, Ashland\, 97520
CATEGORIES:CALL TO ACTION,Featured
ATTACH;FMTTYPE=image/jpeg:https://ashlandtogether.org/wp-content/uploads/2023/02/aidan-plaque.jpeg
END:VEVENT
END:VCALENDAR