BEGIN:VCALENDAR
VERSION:2.0
PRODID:-//Ashland Together - ECPv6.15.20//NONSGML v1.0//EN
CALSCALE:GREGORIAN
METHOD:PUBLISH
X-WR-CALNAME:Ashland Together
X-ORIGINAL-URL:https://ashlandtogether.org
X-WR-CALDESC:Events for Ashland Together
REFRESH-INTERVAL;VALUE=DURATION:PT1H
X-Robots-Tag:noindex
X-PUBLISHED-TTL:PT1H
BEGIN:VTIMEZONE
TZID:America/Los_Angeles
BEGIN:DAYLIGHT
TZOFFSETFROM:-0800
TZOFFSETTO:-0700
TZNAME:PDT
DTSTART:20220313T100000
END:DAYLIGHT
BEGIN:STANDARD
TZOFFSETFROM:-0700
TZOFFSETTO:-0800
TZNAME:PST
DTSTART:20221106T090000
END:STANDARD
BEGIN:DAYLIGHT
TZOFFSETFROM:-0800
TZOFFSETTO:-0700
TZNAME:PDT
DTSTART:20230312T100000
END:DAYLIGHT
BEGIN:STANDARD
TZOFFSETFROM:-0700
TZOFFSETTO:-0800
TZNAME:PST
DTSTART:20231105T090000
END:STANDARD
BEGIN:DAYLIGHT
TZOFFSETFROM:-0800
TZOFFSETTO:-0700
TZNAME:PDT
DTSTART:20240310T100000
END:DAYLIGHT
BEGIN:STANDARD
TZOFFSETFROM:-0700
TZOFFSETTO:-0800
TZNAME:PST
DTSTART:20241103T090000
END:STANDARD
END:VTIMEZONE
BEGIN:VEVENT
DTSTART;TZID=America/Los_Angeles:20230510T170000
DTEND;TZID=America/Los_Angeles:20230510T170000
DTSTAMP:20260423T152328
CREATED:20230509T152648Z
LAST-MODIFIED:20230509T164649Z
UID:1717-1683738000-1683738000@ashlandtogether.org
SUMMARY:Justice for Aidan Rally
DESCRIPTION:On Monday\, a 12-person jury unanimously found Robert Keegan not guilty of the charge of second-degree murder for the shooting of 19 year old Aidan Ellison. \nInstead he was found guilty of first-degree manslaughter\, unlawful possession of a firearm and recklessly endangering another person. \nA guilty second degree murder verdict could have resulted in a sentence of life in prison. \nA first-degree manslaughter conviction carries a mandatory minimum sentence of 10 years. \nAshland High School’s\nTruth to Power\nis asking to you join them for the following events to protest the lesser charge in the killing of Aidan Ellison. \nWednesday\, May 10th at 5:00 pm\nJustice for Aidan Rally\nAshland Plaza \n  \n“Nothing about Aidan’s murder can ever be made right\, or fair\, or okay. What we call for is justice; a recognition of what Keegan did and punishment for his actions. Without punishment for murder\, for stealing an innocent life\, this conviction isn’t justice.”\nAmy Preskenis Perrin\nTruth to Power \n  \n  \nAnother way to help… \nWrite to the judge and ask him to sentence Robert Keegan to the full extent of the law.\nAlso\, ask for sentencing of all three charges consecutively. \nThe Honorable Tim Barnack\nTim.Barnack@ojd.state.or.us \nA handwritten note delivered to his chamber would also be helpful. \n100 S. Oakdale\nMedford  97501
URL:https://ashlandtogether.org/event/justice-for-aidan-rally/
LOCATION:The Plaza\, Ashland\, Downtown Ashland\, OR\, 97520
CATEGORIES:CALL TO ACTION,Featured
ATTACH;FMTTYPE=image/jpeg:https://ashlandtogether.org/wp-content/uploads/2023/05/aidan.jpg
END:VEVENT
END:VCALENDAR