BEGIN:VCALENDAR
VERSION:2.0
PRODID:-//Ashland Together - ECPv6.15.20//NONSGML v1.0//EN
CALSCALE:GREGORIAN
METHOD:PUBLISH
X-WR-CALNAME:Ashland Together
X-ORIGINAL-URL:https://ashlandtogether.org
X-WR-CALDESC:Events for Ashland Together
REFRESH-INTERVAL;VALUE=DURATION:PT1H
X-Robots-Tag:noindex
X-PUBLISHED-TTL:PT1H
BEGIN:VTIMEZONE
TZID:America/Los_Angeles
BEGIN:DAYLIGHT
TZOFFSETFROM:-0800
TZOFFSETTO:-0700
TZNAME:PDT
DTSTART:20220313T100000
END:DAYLIGHT
BEGIN:STANDARD
TZOFFSETFROM:-0700
TZOFFSETTO:-0800
TZNAME:PST
DTSTART:20221106T090000
END:STANDARD
BEGIN:DAYLIGHT
TZOFFSETFROM:-0800
TZOFFSETTO:-0700
TZNAME:PDT
DTSTART:20230312T100000
END:DAYLIGHT
BEGIN:STANDARD
TZOFFSETFROM:-0700
TZOFFSETTO:-0800
TZNAME:PST
DTSTART:20231105T090000
END:STANDARD
BEGIN:DAYLIGHT
TZOFFSETFROM:-0800
TZOFFSETTO:-0700
TZNAME:PDT
DTSTART:20240310T100000
END:DAYLIGHT
BEGIN:STANDARD
TZOFFSETFROM:-0700
TZOFFSETTO:-0800
TZNAME:PST
DTSTART:20241103T090000
END:STANDARD
END:VTIMEZONE
BEGIN:VEVENT
DTSTART;TZID=America/Los_Angeles:20230618T080000
DTEND;TZID=America/Los_Angeles:20230618T170000
DTSTAMP:20260423T221623
CREATED:20230607T232346Z
LAST-MODIFIED:20230607T232945Z
UID:1741-1687075200-1687107600@ashlandtogether.org
SUMMARY:Juneteenth Picnic
DESCRIPTION:Hosted by Say Their Names in the Hersey Street Park in Ashland. \nCome celebrate father’s day with community in an epic fundraising launch for the permanent public art installation\, ‘Ancestor’s Future: Crystallizing Our Call’ coming to Ashland Creek Park. \n*Dress for the sun [wear sunblock] & bring your own water bottles\, picnic blankets. \nBRING YOUR $$ FOR FOOD TRUCKS & DONATIONS
URL:https://ashlandtogether.org/event/juneteenth-picnic/
LOCATION:Hersey Street Park\, 27 E Hersey St\, Ashland\, OR\, 97520
CATEGORIES:Featured
ATTACH;FMTTYPE=image/jpeg:https://ashlandtogether.org/wp-content/uploads/2023/06/ashland-juneteenth.jpg
END:VEVENT
END:VCALENDAR