BEGIN:VCALENDAR
VERSION:2.0
PRODID:-//Ashland Together - ECPv6.15.20//NONSGML v1.0//EN
CALSCALE:GREGORIAN
METHOD:PUBLISH
X-WR-CALNAME:Ashland Together
X-ORIGINAL-URL:https://ashlandtogether.org
X-WR-CALDESC:Events for Ashland Together
REFRESH-INTERVAL;VALUE=DURATION:PT1H
X-Robots-Tag:noindex
X-PUBLISHED-TTL:PT1H
BEGIN:VTIMEZONE
TZID:America/Los_Angeles
BEGIN:DAYLIGHT
TZOFFSETFROM:-0800
TZOFFSETTO:-0700
TZNAME:PDT
DTSTART:20230312T100000
END:DAYLIGHT
BEGIN:STANDARD
TZOFFSETFROM:-0700
TZOFFSETTO:-0800
TZNAME:PST
DTSTART:20231105T090000
END:STANDARD
BEGIN:DAYLIGHT
TZOFFSETFROM:-0800
TZOFFSETTO:-0700
TZNAME:PDT
DTSTART:20240310T100000
END:DAYLIGHT
BEGIN:STANDARD
TZOFFSETFROM:-0700
TZOFFSETTO:-0800
TZNAME:PST
DTSTART:20241103T090000
END:STANDARD
BEGIN:DAYLIGHT
TZOFFSETFROM:-0800
TZOFFSETTO:-0700
TZNAME:PDT
DTSTART:20250309T100000
END:DAYLIGHT
BEGIN:STANDARD
TZOFFSETFROM:-0700
TZOFFSETTO:-0800
TZNAME:PST
DTSTART:20251102T090000
END:STANDARD
END:VTIMEZONE
BEGIN:VEVENT
DTSTART;TZID=America/Los_Angeles:20241019T103000
DTEND;TZID=America/Los_Angeles:20241020T160000
DTSTAMP:20260423T193336
CREATED:20240907T003003Z
LAST-MODIFIED:20241012T213326Z
UID:3709-1729333800-1729440000@ashlandtogether.org
SUMMARY:Indigenous People's Day 2024
DESCRIPTION:Honor the past | Empower the Present | Inspire the Future \nSpeakers\, Good\, Indigenous Artisans Market\, Danders\, Ativities \nSaturday October 19 \nWelcoming 11:00 AM \nSalmon Lunch: Noon – 4:00 PM ($10 a plate\, cash only) \nGuest speakers and open sharing 1:00 PM – 4:00 PM \nSunday October 20 10:30-4:00 PM \nIndian Tacos & frybread hosted by SOU NSASU (cash only) \nGuest speakers and open sharing all day \n  \nArtisan Market sat and sun 10:30 AM – 4 PM \nFor more infro contact Kenw ani Kravitz at kravitzk@sou.edu or 541552-6937
URL:https://ashlandtogether.org/event/indigenous-peoples-day-2024/
LOCATION:Stevenson Union\, SOU Campus\, Ashland
ATTACH;FMTTYPE=image/jpeg:https://ashlandtogether.org/wp-content/uploads/2024/09/IMG_4021-Medium.jpeg
END:VEVENT
END:VCALENDAR