BEGIN:VCALENDAR
VERSION:2.0
PRODID:-//Ashland Together - ECPv6.15.20//NONSGML v1.0//EN
CALSCALE:GREGORIAN
METHOD:PUBLISH
X-WR-CALNAME:Ashland Together
X-ORIGINAL-URL:https://ashlandtogether.org
X-WR-CALDESC:Events for Ashland Together
REFRESH-INTERVAL;VALUE=DURATION:PT1H
X-Robots-Tag:noindex
X-PUBLISHED-TTL:PT1H
BEGIN:VTIMEZONE
TZID:America/Los_Angeles
BEGIN:DAYLIGHT
TZOFFSETFROM:-0800
TZOFFSETTO:-0700
TZNAME:PDT
DTSTART:20240310T100000
END:DAYLIGHT
BEGIN:STANDARD
TZOFFSETFROM:-0700
TZOFFSETTO:-0800
TZNAME:PST
DTSTART:20241103T090000
END:STANDARD
BEGIN:DAYLIGHT
TZOFFSETFROM:-0800
TZOFFSETTO:-0700
TZNAME:PDT
DTSTART:20250309T100000
END:DAYLIGHT
BEGIN:STANDARD
TZOFFSETFROM:-0700
TZOFFSETTO:-0800
TZNAME:PST
DTSTART:20251102T090000
END:STANDARD
BEGIN:DAYLIGHT
TZOFFSETFROM:-0800
TZOFFSETTO:-0700
TZNAME:PDT
DTSTART:20260308T100000
END:DAYLIGHT
BEGIN:STANDARD
TZOFFSETFROM:-0700
TZOFFSETTO:-0800
TZNAME:PST
DTSTART:20261101T090000
END:STANDARD
END:VTIMEZONE
BEGIN:VEVENT
DTSTART;VALUE=DATE:20250413
DTEND;VALUE=DATE:20250420
DTSTAMP:20260423T150611
CREATED:20250307T055205Z
LAST-MODIFIED:20250307T055428Z
UID:4760-1744502400-1745107199@ashlandtogether.org
SUMMARY:Independent Media Week
DESCRIPTION:Ashland Oregon’s 20th annual Independent Media Week showcases a coalition of independent media producers\, local activists and community groups organized around the theme “A well-informed citizenry is a cornerstone of democracy.” \nWe have a full week of events\, trainings and workshops planned. This year we are opening the Rogue River Room to artists and creators to\nshare the work folks are doing right here in our community. \n  \nINDEPENDENT MEDIA WEEK PROCLAMATION \n* An informed citizenry is a cornerstone of democracy. \n* An informed citizenry depends on unrestrained press\, which provides greater access to information\, more points of view and greater diversity of thought and fact. \n* The trend toward the consolidation of media ownership has resulted in journalistic practices that hinder public awareness by excluding or marginalizing minority and dissenting viewpoints.\n* Fewer media voices can result in homogenized messaging and the silencing of many points of view. \n* Democratic principles support the case for more independent media in this country\, not less. \nNOW\, THEREFORE\, I do hereby proclaim the week of April 13-19 as INDEPENDENT MEDIA WEEK and encourage all citizens to seek out and explore the rich diversity of independent media available within\, and to our community. \nMore Info \n 
URL:https://ashlandtogether.org/event/independent-media-week/
LOCATION:Ashland\, OR\, Ashland\, OR\, 97520\, United States
ATTACH;FMTTYPE=image/jpeg:https://ashlandtogether.org/wp-content/uploads/2025/03/independent-Media-Week.jpg
END:VEVENT
END:VCALENDAR