BEGIN:VCALENDAR
VERSION:2.0
PRODID:-//Ashland Together - ECPv6.15.20//NONSGML v1.0//EN
CALSCALE:GREGORIAN
METHOD:PUBLISH
X-WR-CALNAME:Ashland Together
X-ORIGINAL-URL:https://ashlandtogether.org
X-WR-CALDESC:Events for Ashland Together
REFRESH-INTERVAL;VALUE=DURATION:PT1H
X-Robots-Tag:noindex
X-PUBLISHED-TTL:PT1H
BEGIN:VTIMEZONE
TZID:America/Los_Angeles
BEGIN:DAYLIGHT
TZOFFSETFROM:-0800
TZOFFSETTO:-0700
TZNAME:PDT
DTSTART:20240310T100000
END:DAYLIGHT
BEGIN:STANDARD
TZOFFSETFROM:-0700
TZOFFSETTO:-0800
TZNAME:PST
DTSTART:20241103T090000
END:STANDARD
BEGIN:DAYLIGHT
TZOFFSETFROM:-0800
TZOFFSETTO:-0700
TZNAME:PDT
DTSTART:20250309T100000
END:DAYLIGHT
BEGIN:STANDARD
TZOFFSETFROM:-0700
TZOFFSETTO:-0800
TZNAME:PST
DTSTART:20251102T090000
END:STANDARD
BEGIN:DAYLIGHT
TZOFFSETFROM:-0800
TZOFFSETTO:-0700
TZNAME:PDT
DTSTART:20260308T100000
END:DAYLIGHT
BEGIN:STANDARD
TZOFFSETFROM:-0700
TZOFFSETTO:-0800
TZNAME:PST
DTSTART:20261101T090000
END:STANDARD
END:VTIMEZONE
BEGIN:VEVENT
DTSTART;TZID=America/Los_Angeles:20250508T173000
DTEND;TZID=America/Los_Angeles:20250508T190000
DTSTAMP:20260423T133546
CREATED:20250307T054633Z
LAST-MODIFIED:20250402T043810Z
UID:4758-1746725400-1746730800@ashlandtogether.org
SUMMARY:How Do You Reconcile a Lynching? A Story of Justice and Redemption
DESCRIPTION:The event will focus on the life and legacy of Alonzo Tucker\, Oregon’s most documented African American lynching victim\, and the efforts to seek justice and reconciliation. Stewart will share insights on confronting historical injustices and fostering community healing. \n“This story is not just about reconciliation; it’s about finding a way to heal and foster hope in our communities\,” Stewart explains. “By confronting these painful narratives\, we can begin to foster understanding and pave the way for a more just future.” \nGabi Johnsen\, founder of Grants Pass Remembrance Project (GPRP) and Community Engagement Director of ORP\, will join the discussion. A Q&A session will follow. The Ashland Sunrise Project invites community members\, educators\, and advocates to take part in this conversation on historical justice in Oregon. \nRegister Below \nTaylor Stewart is the Founder and Executive Director of the Oregon Remembrance Project (ORP). He is a lifelong Portlander and graduated from UP in 2018 with a degree in Communication and a Master’s in Social Work from PSU in 2021. Stewart started ORP in 2018 to help communities unearth stories of injustice and engage in the necessary truth telling and repair required to reconcile instances of historical harm. His work connects historical racism to its present-day legacies in order to inspire contemporary racial justice action. In what started as simply a way to memorialize an African American lynching victim named Alonzo Tucker\, Stewart has grown to see the power of reconciliation to rectify further instances of historical injustice. \nGabrielle Johnsen is the Community Engagement Director with Oregon Remembrance Project and a core caretaker of Grants Pass Remembrance (the Sunrise Project in her community of Grants Pass).  She has collaborated with Taylor Stewart since 2020 in the development of the Sunrise Project.  This work embodies much of what she cares about – racial reconciliation\, learning and growing together with neighbors\, and supporting opportunities to see and hear the “others” in our lives and communities!\n  \n\n\n\nDirections and parking \n\n\n\n\n\n\nFROM NORTHBOUND 1-5: \nTake exit 14 and turn left onto Ashland Street/Hwy 66.\nContinue on Ashland Street to Siskiyou Blvd (where all traffic must turn right).\nTake the first left onto Indiana Street.\nThere are free one hour parking spaces behind the Museum. Additional metered parking is located across from the Museum (the first left after you turn onto Indiana). \nFROM SOUTHBOUND 1-5: \n\n\n\n\n\n\nTake exit 19 and turn right onto Valley View Road.\nTurn left onto Highway 99 (this will become North Main Street).\nKeep right onto Siskiyou Blvd.\nTurn right onto Indiana Street.\nThere are free one hour parking spaces behind the Museum. Additional metered parking is located across from the Museum (the first left after you turn onto Indiana).The Museum is wheelchair-accessible. Large-print handouts are available upon request.
URL:https://ashlandtogether.org/event/how-do-you-reconcile-a-lynching-a-story-of-justice-and-redemption/
LOCATION:Meese Auditorium\, SOU\, 1250 Siskiyou Boulevard\, Ashland\, OR\, 97520
CATEGORIES:Featured
ATTACH;FMTTYPE=image/png:https://ashlandtogether.org/wp-content/uploads/2023/11/Ashland-Sunrise.png
END:VEVENT
END:VCALENDAR