BEGIN:VCALENDAR
VERSION:2.0
PRODID:-//Ashland Together - ECPv6.15.20//NONSGML v1.0//EN
CALSCALE:GREGORIAN
METHOD:PUBLISH
X-WR-CALNAME:Ashland Together
X-ORIGINAL-URL:https://ashlandtogether.org
X-WR-CALDESC:Events for Ashland Together
REFRESH-INTERVAL;VALUE=DURATION:PT1H
X-Robots-Tag:noindex
X-PUBLISHED-TTL:PT1H
BEGIN:VTIMEZONE
TZID:America/Los_Angeles
BEGIN:DAYLIGHT
TZOFFSETFROM:-0800
TZOFFSETTO:-0700
TZNAME:PDT
DTSTART:20230312T100000
END:DAYLIGHT
BEGIN:STANDARD
TZOFFSETFROM:-0700
TZOFFSETTO:-0800
TZNAME:PST
DTSTART:20231105T090000
END:STANDARD
BEGIN:DAYLIGHT
TZOFFSETFROM:-0800
TZOFFSETTO:-0700
TZNAME:PDT
DTSTART:20240310T100000
END:DAYLIGHT
BEGIN:STANDARD
TZOFFSETFROM:-0700
TZOFFSETTO:-0800
TZNAME:PST
DTSTART:20241103T090000
END:STANDARD
BEGIN:DAYLIGHT
TZOFFSETFROM:-0800
TZOFFSETTO:-0700
TZNAME:PDT
DTSTART:20250309T100000
END:DAYLIGHT
BEGIN:STANDARD
TZOFFSETFROM:-0700
TZOFFSETTO:-0800
TZNAME:PST
DTSTART:20251102T090000
END:STANDARD
END:VTIMEZONE
BEGIN:VEVENT
DTSTART;TZID=America/Los_Angeles:20240111T180000
DTEND;TZID=America/Los_Angeles:20240111T200000
DTSTAMP:20260423T152425
CREATED:20231127T045350Z
LAST-MODIFIED:20240106T212735Z
UID:2012-1704996000-1705003200@ashlandtogether.org
SUMMARY:Free 2 Hour Webinar: Seeds of a White Utopia
DESCRIPTION:Ashland Together and our community partners invite you to join Portland State University history professor Kristin Teigen for an introduction to understanding Oregon’s difficult racial past. \nWhat You Will Learn \nThe goal of this 2 hour webinar is to better understand our state’s largely unexamined history of discrimination with the hope of empowering us all to be part of the vision for a more equitable and inclusive community. Knowing our complicated origin story goes a long way in making that vision a reality.\nProfessor Teigen’s presentation begins by exploring the early American events that set the stage for Oregon’s foundation as a ‘whites-only’ territory. She will delve into topics like the construct of race\, Bacon’s Rebellion\, Manifest Destiny and the Missouri Compromise\, significant historical moments that planted the seeds for exclusionary practices that would set the stage of discrimination for generations to come. Among other things\, you will also learn about early relations with Indigenous tribes and what led to the widespread seizure of tribal lands. \nInstructor: Kristin Teigen\, MA\, M.Ed. is an educator at Portland State University\, where she teaches the history of BIPOC communities in Oregon and issues of women’s homelessness. She’s also an anti-oppression activist\, working in feminist\, queer\, environmental justice and people of color movements\, and a trained anti-oppression facilitator. \nSpecial thanks to our Community Partners: BASE and Peace House. \n 
URL:https://ashlandtogether.org/event/free-2-hour-webinar-seeds-of-a-white-utopia/
LOCATION:Online
CATEGORIES:Featured
ATTACH;FMTTYPE=image/jpeg:https://ashlandtogether.org/wp-content/uploads/2023/11/OrHi_49676_-_KKK_March.jpg
END:VEVENT
END:VCALENDAR