BEGIN:VCALENDAR
VERSION:2.0
PRODID:-//Ashland Together - ECPv6.15.20//NONSGML v1.0//EN
CALSCALE:GREGORIAN
METHOD:PUBLISH
X-WR-CALNAME:Ashland Together
X-ORIGINAL-URL:https://ashlandtogether.org
X-WR-CALDESC:Events for Ashland Together
REFRESH-INTERVAL;VALUE=DURATION:PT1H
X-Robots-Tag:noindex
X-PUBLISHED-TTL:PT1H
BEGIN:VTIMEZONE
TZID:America/Los_Angeles
BEGIN:DAYLIGHT
TZOFFSETFROM:-0800
TZOFFSETTO:-0700
TZNAME:PDT
DTSTART:20240310T100000
END:DAYLIGHT
BEGIN:STANDARD
TZOFFSETFROM:-0700
TZOFFSETTO:-0800
TZNAME:PST
DTSTART:20241103T090000
END:STANDARD
BEGIN:DAYLIGHT
TZOFFSETFROM:-0800
TZOFFSETTO:-0700
TZNAME:PDT
DTSTART:20250309T100000
END:DAYLIGHT
BEGIN:STANDARD
TZOFFSETFROM:-0700
TZOFFSETTO:-0800
TZNAME:PST
DTSTART:20251102T090000
END:STANDARD
BEGIN:DAYLIGHT
TZOFFSETFROM:-0800
TZOFFSETTO:-0700
TZNAME:PDT
DTSTART:20260308T100000
END:DAYLIGHT
BEGIN:STANDARD
TZOFFSETFROM:-0700
TZOFFSETTO:-0800
TZNAME:PST
DTSTART:20261101T090000
END:STANDARD
END:VTIMEZONE
BEGIN:VEVENT
DTSTART;TZID=America/Los_Angeles:20250220T190000
DTEND;TZID=America/Los_Angeles:20250220T203000
DTSTAMP:20260423T163409
CREATED:20250214T210144Z
LAST-MODIFIED:20250214T210144Z
UID:4521-1740078000-1740083400@ashlandtogether.org
SUMMARY:Farming While Black
DESCRIPTION:Join the Ashland Food Co-op’s EDI team for a special screening of Farming While Black\, a powerful documentary featuring Leah Penniman\, co-founder of Soul Fire Farm\, at the Varsity Theatre\, located at 166 E Main St\, Ashland\, OR. \nThe film m delves into the historical challenges faced by Black farmers in the United States and highlights the efforts of a rising generation reclaiming land and reconnecting with their African agrarian roots. \nFarming While Black tells the story of Black farmers\, from the height of Black-owned farms at 14% in 1910 to less than 2% today. Leah Penniman\, along with fellow farmers and organizers\, is leading the charge in promoting sustainable agriculture and food justice while addressing the deep-rooted inequalities that continue to plague Black communities. Through her work with Soul Fire Farm\, Penniman and her team are empowering future generations of Black farmers and connecting them to their ancestral agricultural traditions that can heal both people and the planet. \n\n\n\n\n\nDate & Time:\nFebruary 20\, 2025 @ 7:00 pm – 8:30 pm\n\n\n\n\n\nCost:\n$5 – $15
URL:https://ashlandtogether.org/event/farming-while-black/
LOCATION:The Varsity\, 166 E. Main Street\, Ashland\, OR\, 97520
ATTACH;FMTTYPE=image/jpeg:https://ashlandtogether.org/wp-content/uploads/2025/02/Farming_While_Black_Poster-691x1024-1.jpg
END:VEVENT
END:VCALENDAR