BEGIN:VCALENDAR
VERSION:2.0
PRODID:-//Ashland Together - ECPv6.15.20//NONSGML v1.0//EN
CALSCALE:GREGORIAN
METHOD:PUBLISH
X-WR-CALNAME:Ashland Together
X-ORIGINAL-URL:https://ashlandtogether.org
X-WR-CALDESC:Events for Ashland Together
REFRESH-INTERVAL;VALUE=DURATION:PT1H
X-Robots-Tag:noindex
X-PUBLISHED-TTL:PT1H
BEGIN:VTIMEZONE
TZID:America/Los_Angeles
BEGIN:DAYLIGHT
TZOFFSETFROM:-0800
TZOFFSETTO:-0700
TZNAME:PDT
DTSTART:20220313T100000
END:DAYLIGHT
BEGIN:STANDARD
TZOFFSETFROM:-0700
TZOFFSETTO:-0800
TZNAME:PST
DTSTART:20221106T090000
END:STANDARD
BEGIN:DAYLIGHT
TZOFFSETFROM:-0800
TZOFFSETTO:-0700
TZNAME:PDT
DTSTART:20230312T100000
END:DAYLIGHT
BEGIN:STANDARD
TZOFFSETFROM:-0700
TZOFFSETTO:-0800
TZNAME:PST
DTSTART:20231105T090000
END:STANDARD
BEGIN:DAYLIGHT
TZOFFSETFROM:-0800
TZOFFSETTO:-0700
TZNAME:PDT
DTSTART:20240310T100000
END:DAYLIGHT
BEGIN:STANDARD
TZOFFSETFROM:-0700
TZOFFSETTO:-0800
TZNAME:PST
DTSTART:20241103T090000
END:STANDARD
END:VTIMEZONE
BEGIN:VEVENT
DTSTART;TZID=America/Los_Angeles:20231025T180000
DTEND;TZID=America/Los_Angeles:20231025T193000
DTSTAMP:20260423T193055
CREATED:20231023T173353Z
LAST-MODIFIED:20231023T173353Z
UID:1798-1698256800-1698262200@ashlandtogether.org
SUMMARY:Deconstructing Whiteness
DESCRIPTION:Deconstructing Whiteness’ first offering of our 2023-24 season is next Wednesday October 25\, 6:00-7:30pm at Peace House in Ashland. Please see below for more info.\nWe are glad for you to share this INVITE widely with family\, friends\, & colleagues. We look forward to seeing you. \nCheck out the DW website for other information\, more resources\, joining the mailing list\, and more.
URL:https://ashlandtogether.org/event/deconstructing-whiteness/
LOCATION:Peace House\, 543 S. Mountain Street\, Ashland\, OR\, 97520
CATEGORIES:Featured
ATTACH;FMTTYPE=image/jpeg:https://ashlandtogether.org/wp-content/uploads/2023/02/whiteness.jpeg
END:VEVENT
END:VCALENDAR