BEGIN:VCALENDAR
VERSION:2.0
PRODID:-//Ashland Together - ECPv6.15.20//NONSGML v1.0//EN
CALSCALE:GREGORIAN
METHOD:PUBLISH
X-WR-CALNAME:Ashland Together
X-ORIGINAL-URL:https://ashlandtogether.org
X-WR-CALDESC:Events for Ashland Together
REFRESH-INTERVAL;VALUE=DURATION:PT1H
X-Robots-Tag:noindex
X-PUBLISHED-TTL:PT1H
BEGIN:VTIMEZONE
TZID:America/Los_Angeles
BEGIN:DAYLIGHT
TZOFFSETFROM:-0800
TZOFFSETTO:-0700
TZNAME:PDT
DTSTART:20220313T100000
END:DAYLIGHT
BEGIN:STANDARD
TZOFFSETFROM:-0700
TZOFFSETTO:-0800
TZNAME:PST
DTSTART:20221106T090000
END:STANDARD
BEGIN:DAYLIGHT
TZOFFSETFROM:-0800
TZOFFSETTO:-0700
TZNAME:PDT
DTSTART:20230312T100000
END:DAYLIGHT
BEGIN:STANDARD
TZOFFSETFROM:-0700
TZOFFSETTO:-0800
TZNAME:PST
DTSTART:20231105T090000
END:STANDARD
BEGIN:DAYLIGHT
TZOFFSETFROM:-0800
TZOFFSETTO:-0700
TZNAME:PDT
DTSTART:20240310T100000
END:DAYLIGHT
BEGIN:STANDARD
TZOFFSETFROM:-0700
TZOFFSETTO:-0800
TZNAME:PST
DTSTART:20241103T090000
END:STANDARD
END:VTIMEZONE
BEGIN:VEVENT
DTSTART;TZID=America/Los_Angeles:20231103T190000
DTEND;TZID=America/Los_Angeles:20231103T203000
DTSTAMP:20260423T193218
CREATED:20231026T040329Z
LAST-MODIFIED:20231026T041034Z
UID:1807-1699038000-1699043400@ashlandtogether.org
SUMMARY:Community Conversation & Reception
DESCRIPTION:“Let Us Break Bread Together”\nCommunity Conversation & Reception\nFREE PUBLIC community conversation about the powerful connections between Black and Native women in American music. Hors d’oeuvres will be provided\, no-host bar will be open. The conversation event will follow the reception.\nALL ARE INVITED. ALL ARE WELCOME.
URL:https://ashlandtogether.org/event/community-conversation-reception/
LOCATION:Elks Lodge Ashland\, 255 E Main St\, Ashland\, Oregon\, 97520\, United States
CATEGORIES:Featured
ATTACH;FMTTYPE=image/jpeg:https://ashlandtogether.org/wp-content/uploads/2023/10/Uptown-alt-Medium.jpeg
END:VEVENT
END:VCALENDAR