BEGIN:VCALENDAR
VERSION:2.0
PRODID:-//Ashland Together - ECPv6.15.20//NONSGML v1.0//EN
CALSCALE:GREGORIAN
METHOD:PUBLISH
X-WR-CALNAME:Ashland Together
X-ORIGINAL-URL:https://ashlandtogether.org
X-WR-CALDESC:Events for Ashland Together
REFRESH-INTERVAL;VALUE=DURATION:PT1H
X-Robots-Tag:noindex
X-PUBLISHED-TTL:PT1H
BEGIN:VTIMEZONE
TZID:America/Los_Angeles
BEGIN:DAYLIGHT
TZOFFSETFROM:-0800
TZOFFSETTO:-0700
TZNAME:PDT
DTSTART:20220313T100000
END:DAYLIGHT
BEGIN:STANDARD
TZOFFSETFROM:-0700
TZOFFSETTO:-0800
TZNAME:PST
DTSTART:20221106T090000
END:STANDARD
BEGIN:DAYLIGHT
TZOFFSETFROM:-0800
TZOFFSETTO:-0700
TZNAME:PDT
DTSTART:20230312T100000
END:DAYLIGHT
BEGIN:STANDARD
TZOFFSETFROM:-0700
TZOFFSETTO:-0800
TZNAME:PST
DTSTART:20231105T090000
END:STANDARD
BEGIN:DAYLIGHT
TZOFFSETFROM:-0800
TZOFFSETTO:-0700
TZNAME:PDT
DTSTART:20240310T100000
END:DAYLIGHT
BEGIN:STANDARD
TZOFFSETFROM:-0700
TZOFFSETTO:-0800
TZNAME:PST
DTSTART:20241103T090000
END:STANDARD
END:VTIMEZONE
BEGIN:VEVENT
DTSTART;TZID=America/Los_Angeles:20230516T190000
DTEND;TZID=America/Los_Angeles:20230516T203000
DTSTAMP:20260423T164834
CREATED:20230506T154814Z
LAST-MODIFIED:20230506T154844Z
UID:1708-1684263600-1684269000@ashlandtogether.org
SUMMARY:Building a Better "We" - Fusing Race and Class
DESCRIPTION:The Office for Equity\, Diversity\, & Inclusion at SOU is fortunate and delighted to collaborate with Campus Theme coordinators\, Prakash Chenjeri and Justin Harmon in bringing nationally renowned author\, speaker\, and legal scholar\, Ian Haney Lopez to SOU.\n\nTogether we’re partnering with OSF\, to bring this UC Berkeley Professor of Public Law to the Rogue River Room on Tuesday\, May 16th at 7:00 PM for Building a Better “We” – Fusing Race and Class.  
URL:https://ashlandtogether.org/event/building-a-better-we-fusing-race-and-class/
LOCATION:Rogue River Room\, SOU\, Stevenson Union\, 1250 Siskiyou Blvd\, Ashland\, OR\, 97520
CATEGORIES:Featured
ATTACH;FMTTYPE=image/jpeg:https://ashlandtogether.org/wp-content/uploads/2023/05/ian_haney-lopez.jpg
END:VEVENT
END:VCALENDAR