BEGIN:VCALENDAR
VERSION:2.0
PRODID:-//Ashland Together - ECPv6.15.20//NONSGML v1.0//EN
CALSCALE:GREGORIAN
METHOD:PUBLISH
X-WR-CALNAME:Ashland Together
X-ORIGINAL-URL:https://ashlandtogether.org
X-WR-CALDESC:Events for Ashland Together
REFRESH-INTERVAL;VALUE=DURATION:PT1H
X-Robots-Tag:noindex
X-PUBLISHED-TTL:PT1H
BEGIN:VTIMEZONE
TZID:America/Los_Angeles
BEGIN:DAYLIGHT
TZOFFSETFROM:-0800
TZOFFSETTO:-0700
TZNAME:PDT
DTSTART:20240310T100000
END:DAYLIGHT
BEGIN:STANDARD
TZOFFSETFROM:-0700
TZOFFSETTO:-0800
TZNAME:PST
DTSTART:20241103T090000
END:STANDARD
BEGIN:DAYLIGHT
TZOFFSETFROM:-0800
TZOFFSETTO:-0700
TZNAME:PDT
DTSTART:20250309T100000
END:DAYLIGHT
BEGIN:STANDARD
TZOFFSETFROM:-0700
TZOFFSETTO:-0800
TZNAME:PST
DTSTART:20251102T090000
END:STANDARD
BEGIN:DAYLIGHT
TZOFFSETFROM:-0800
TZOFFSETTO:-0700
TZNAME:PDT
DTSTART:20260308T100000
END:DAYLIGHT
BEGIN:STANDARD
TZOFFSETFROM:-0700
TZOFFSETTO:-0800
TZNAME:PST
DTSTART:20261101T090000
END:STANDARD
END:VTIMEZONE
BEGIN:VEVENT
DTSTART;TZID=America/Los_Angeles:20250219T190000
DTEND;TZID=America/Los_Angeles:20250219T210000
DTSTAMP:20260423T164112
CREATED:20250128T181916Z
LAST-MODIFIED:20250128T181956Z
UID:4360-1739991600-1739998800@ashlandtogether.org
SUMMARY:Bridging Divides to show Accidental Courtesy with Daryl Davis
DESCRIPTION:Join facilitator Marla Estes\, MA\, and learn how to “depolarize within\,” and then engage in a facilitated discussion to help integrate new perspectives. \nBridging Divides Monthly Video & Discussion Series\nEvery 3rd Wednesday of the month\nFree admission\, donations welcome\n“How can they hate me if they don’t know me?”\n~ Daryl Davis \nIn our continuing series of films illustrating “bridging in action\,”\nthis month we meet blues musician\, Daryl Davis. \nFor decades now\, he has been making friends with KKK members\,\na significant number of who end up swearing off their robes. \nCome watch this novel approach to bridging divides and see what you think. \nWednesday\, February 19th ~ 7 to 9 pm\nRVML ~ 1757 Ashland Street\, Ashland \nWe need new narratives and role models to show us another way forward by employing collaboration instead of contention. \nWatch the trailer
URL:https://ashlandtogether.org/event/bridging-divides-to-show-accidental-coursey-with-daryl-davis/
LOCATION:RVML\, 1757 Ashland Street\, Ashland
ATTACH;FMTTYPE=image/jpeg:https://ashlandtogether.org/wp-content/uploads/2025/01/daryl-davis.jpg
END:VEVENT
END:VCALENDAR