BEGIN:VCALENDAR
VERSION:2.0
PRODID:-//Ashland Together - ECPv6.15.20//NONSGML v1.0//EN
CALSCALE:GREGORIAN
METHOD:PUBLISH
X-WR-CALNAME:Ashland Together
X-ORIGINAL-URL:https://ashlandtogether.org
X-WR-CALDESC:Events for Ashland Together
REFRESH-INTERVAL;VALUE=DURATION:PT1H
X-Robots-Tag:noindex
X-PUBLISHED-TTL:PT1H
BEGIN:VTIMEZONE
TZID:America/Los_Angeles
BEGIN:DAYLIGHT
TZOFFSETFROM:-0800
TZOFFSETTO:-0700
TZNAME:PDT
DTSTART:20220313T100000
END:DAYLIGHT
BEGIN:STANDARD
TZOFFSETFROM:-0700
TZOFFSETTO:-0800
TZNAME:PST
DTSTART:20221106T090000
END:STANDARD
BEGIN:DAYLIGHT
TZOFFSETFROM:-0800
TZOFFSETTO:-0700
TZNAME:PDT
DTSTART:20230312T100000
END:DAYLIGHT
BEGIN:STANDARD
TZOFFSETFROM:-0700
TZOFFSETTO:-0800
TZNAME:PST
DTSTART:20231105T090000
END:STANDARD
BEGIN:DAYLIGHT
TZOFFSETFROM:-0800
TZOFFSETTO:-0700
TZNAME:PDT
DTSTART:20240310T100000
END:DAYLIGHT
BEGIN:STANDARD
TZOFFSETFROM:-0700
TZOFFSETTO:-0800
TZNAME:PST
DTSTART:20241103T090000
END:STANDARD
END:VTIMEZONE
BEGIN:VEVENT
DTSTART;TZID=America/Los_Angeles:20231021T100000
DTEND;TZID=America/Los_Angeles:20231021T120000
DTSTAMP:20260423T194535
CREATED:20230920T232854Z
LAST-MODIFIED:20230920T232854Z
UID:1773-1697882400-1697889600@ashlandtogether.org
SUMMARY:Black History Walking Tour of Jacksonville
DESCRIPTION:Join Oregon Black Pioneers for the second stop on our statewide walking tour series. This time\, we’re headed to the historic gold mining town of Jacksonville in Jackson County’s Applegate Valley. \nLed by OBP Public Programs Manager Mariah Rocker\, this two-hour\, 2-mile loop will make stops at locations connected to the town’s Black history. Discover more about Ben Johnson\, Louis Southworth\, and other members of one of Oregon’s first Black communities.
URL:https://ashlandtogether.org/event/black-history-walking-tour-of-jacksonville/
LOCATION:Jacksonville\, OR\, Jacksonville\, OR\, 97530\, United States
CATEGORIES:Featured
ATTACH;FMTTYPE=image/jpeg:https://ashlandtogether.org/wp-content/uploads/2023/09/black-history-walking-tour.jpeg
END:VEVENT
END:VCALENDAR