BEGIN:VCALENDAR
VERSION:2.0
PRODID:-//Ashland Together - ECPv6.15.20//NONSGML v1.0//EN
CALSCALE:GREGORIAN
METHOD:PUBLISH
X-WR-CALNAME:Ashland Together
X-ORIGINAL-URL:https://ashlandtogether.org
X-WR-CALDESC:Events for Ashland Together
REFRESH-INTERVAL;VALUE=DURATION:PT1H
X-Robots-Tag:noindex
X-PUBLISHED-TTL:PT1H
BEGIN:VTIMEZONE
TZID:America/Los_Angeles
BEGIN:DAYLIGHT
TZOFFSETFROM:-0800
TZOFFSETTO:-0700
TZNAME:PDT
DTSTART:20240310T100000
END:DAYLIGHT
BEGIN:STANDARD
TZOFFSETFROM:-0700
TZOFFSETTO:-0800
TZNAME:PST
DTSTART:20241103T090000
END:STANDARD
BEGIN:DAYLIGHT
TZOFFSETFROM:-0800
TZOFFSETTO:-0700
TZNAME:PDT
DTSTART:20250309T100000
END:DAYLIGHT
BEGIN:STANDARD
TZOFFSETFROM:-0700
TZOFFSETTO:-0800
TZNAME:PST
DTSTART:20251102T090000
END:STANDARD
BEGIN:DAYLIGHT
TZOFFSETFROM:-0800
TZOFFSETTO:-0700
TZNAME:PDT
DTSTART:20260308T100000
END:DAYLIGHT
BEGIN:STANDARD
TZOFFSETFROM:-0700
TZOFFSETTO:-0800
TZNAME:PST
DTSTART:20261101T090000
END:STANDARD
END:VTIMEZONE
BEGIN:VEVENT
DTSTART;TZID=America/Los_Angeles:20250821T180000
DTEND;TZID=America/Los_Angeles:20250821T200000
DTSTAMP:20260423T115054
CREATED:20250809T225245Z
LAST-MODIFIED:20250809T225400Z
UID:5057-1755799200-1755806400@ashlandtogether.org
SUMMARY:Better Prepared Wildfire Series - Insurance
DESCRIPTION:Making Our Homes more Survivable and Insurable against Wildfire \nAugust 21\, 6 to 8 p.m. Webinar on Zoom \nJoin staff from the Insurance Institute for Business & Home Safety as they share about a newly available science-based home certification program that is likely to make your home more survivable and insurable. \n Presentation will include background and program details\, followed by a Q&A. \n Hosted by the City of Ashland & Ashland.news \nSign up here https://ashlandoregon.gov/InsurableHomes \nContact convene@ashland.news for more info.
URL:https://ashlandtogether.org/event/better-prepared-wildfire-series-no-5/
LOCATION:Online
CATEGORIES:Featured
ATTACH;FMTTYPE=image/jpeg:https://ashlandtogether.org/wp-content/uploads/2025/08/Better-prepared-no-5.jpg
END:VEVENT
END:VCALENDAR