BEGIN:VCALENDAR
VERSION:2.0
PRODID:-//Ashland Together - ECPv6.15.20//NONSGML v1.0//EN
CALSCALE:GREGORIAN
METHOD:PUBLISH
X-WR-CALNAME:Ashland Together
X-ORIGINAL-URL:https://ashlandtogether.org
X-WR-CALDESC:Events for Ashland Together
REFRESH-INTERVAL;VALUE=DURATION:PT1H
X-Robots-Tag:noindex
X-PUBLISHED-TTL:PT1H
BEGIN:VTIMEZONE
TZID:America/Los_Angeles
BEGIN:DAYLIGHT
TZOFFSETFROM:-0800
TZOFFSETTO:-0700
TZNAME:PDT
DTSTART:20240310T100000
END:DAYLIGHT
BEGIN:STANDARD
TZOFFSETFROM:-0700
TZOFFSETTO:-0800
TZNAME:PST
DTSTART:20241103T090000
END:STANDARD
BEGIN:DAYLIGHT
TZOFFSETFROM:-0800
TZOFFSETTO:-0700
TZNAME:PDT
DTSTART:20250309T100000
END:DAYLIGHT
BEGIN:STANDARD
TZOFFSETFROM:-0700
TZOFFSETTO:-0800
TZNAME:PST
DTSTART:20251102T090000
END:STANDARD
BEGIN:DAYLIGHT
TZOFFSETFROM:-0800
TZOFFSETTO:-0700
TZNAME:PDT
DTSTART:20260308T100000
END:DAYLIGHT
BEGIN:STANDARD
TZOFFSETFROM:-0700
TZOFFSETTO:-0800
TZNAME:PST
DTSTART:20261101T090000
END:STANDARD
END:VTIMEZONE
BEGIN:VEVENT
DTSTART;TZID=America/Los_Angeles:20250518T150000
DTEND;TZID=America/Los_Angeles:20250518T170000
DTSTAMP:20260423T131457
CREATED:20250506T194106Z
LAST-MODIFIED:20250506T194243Z
UID:4927-1747580400-1747587600@ashlandtogether.org
SUMMARY:Be A Light
DESCRIPTION:ROGUE VALLEY PEACE CHOIR \nPRESENTS \n2025 SPRING CONCERT \n70 Voices Singing for Peace\, Social Justice and Responsible Stewardship of Our Planet \n  \nFriday\, May 16 at 7 p.m. \nFirst United Methodist Church \n1801E. Jackson Street\, Medford \n  \nSunday\, May 18 at 3 p.m. \nUnited Church of Christ \n175 N. Main Street\, Ashland. \n 
URL:https://ashlandtogether.org/event/be-a-light/
LOCATION:United Church of Christ\, 717 Siskiyou Boulevard\, Ashland\, OR\, 97520
ATTACH;FMTTYPE=image/jpeg:https://ashlandtogether.org/wp-content/uploads/2025/05/RV-Peace-Choir-Be-A-Light-flyer-jpg.jpeg
END:VEVENT
END:VCALENDAR