BEGIN:VCALENDAR
VERSION:2.0
PRODID:-//Ashland Together - ECPv6.15.20//NONSGML v1.0//EN
CALSCALE:GREGORIAN
METHOD:PUBLISH
X-WR-CALNAME:Ashland Together
X-ORIGINAL-URL:https://ashlandtogether.org
X-WR-CALDESC:Events for Ashland Together
REFRESH-INTERVAL;VALUE=DURATION:PT1H
X-Robots-Tag:noindex
X-PUBLISHED-TTL:PT1H
BEGIN:VTIMEZONE
TZID:America/Los_Angeles
BEGIN:DAYLIGHT
TZOFFSETFROM:-0800
TZOFFSETTO:-0700
TZNAME:PDT
DTSTART:20240310T100000
END:DAYLIGHT
BEGIN:STANDARD
TZOFFSETFROM:-0700
TZOFFSETTO:-0800
TZNAME:PST
DTSTART:20241103T090000
END:STANDARD
BEGIN:DAYLIGHT
TZOFFSETFROM:-0800
TZOFFSETTO:-0700
TZNAME:PDT
DTSTART:20250309T100000
END:DAYLIGHT
BEGIN:STANDARD
TZOFFSETFROM:-0700
TZOFFSETTO:-0800
TZNAME:PST
DTSTART:20251102T090000
END:STANDARD
BEGIN:DAYLIGHT
TZOFFSETFROM:-0800
TZOFFSETTO:-0700
TZNAME:PDT
DTSTART:20260308T100000
END:DAYLIGHT
BEGIN:STANDARD
TZOFFSETFROM:-0700
TZOFFSETTO:-0800
TZNAME:PST
DTSTART:20261101T090000
END:STANDARD
END:VTIMEZONE
BEGIN:VEVENT
DTSTART;TZID=America/Los_Angeles:20250117T150000
DTEND;TZID=America/Los_Angeles:20250117T163000
DTSTAMP:20260423T164744
CREATED:20241124T014727Z
LAST-MODIFIED:20241231T212054Z
UID:4167-1737126000-1737131400@ashlandtogether.org
SUMMARY:Action Follow Up Conversation
DESCRIPTION:Building Common Ground Conversation Post Election – the first of our action follow up conversation. \nThe Ashland Sunrise Project wants to listen to your follow up conversations with your friends\, family\, and neighbors after our “sold out” November 12 event at Carpenter Hall. Come talk\, learn from others and be re-inspired. \nThis gathering will be facilitated by Gina DuQuenne. \nTaylor Stewart from the Oregon Remembrance Project will be in town as well from Portland. \nJanuary 17 from 3:00 – 4:30 pm at the United Church of Christ\, 717 Siskiyou Boulevard\, Ashland\, Oregon
URL:https://ashlandtogether.org/event/action-follow-up-conversation/
LOCATION:United Church of Christ\, 717 Siskiyou Boulevard\, Ashland\, OR\, 97520
ATTACH;FMTTYPE=image/png:https://ashlandtogether.org/wp-content/uploads/2023/11/From-Sundown-to-Sunrise-Transparent.png
END:VEVENT
END:VCALENDAR